Workbook

Sheet Rendicontazione
A1: CERAMICA | B1: STRUTTURA ENERGETICA SITO (Compilare solo le caselle a sfondo bianco)
A2: LA | B2: ID_SITO | F2: NOME | I2: INDIRIZZO | L2: P.IVA [IT00000000000] | N2: SETTORE MERC. | P2: ANNO riferimento | Q2: TIPOLOGIA PRODUTTIVA PREVALENTE:
I3: Città | J3: Via/Piazza/Viale/etc. | N3: [ATECO2007: xx.yy.zz] | O3: declaratoria | Q3: [valore] | R3: [u.m.] | S3: TIPOLOGIA | U3: massa [t] | W3: dimensionale [m2] o [m3]
O4: =IFERROR(VLOOKUP(N4,[1]ATECO2007!A3:B1229,2,0),"") | Q4: =IF(V16=0,V5,V16+V6) -> 0 | R4: t
S5: Produzione ATM | U5: [t]
B6: CONSUMI | F6: CODICE | G6: VETTORE | I6: u.m. | J6: valore | L6: Fattore conversione in tep | N6: PCI/EERe | O6: TEP | P6: Vtot [tep] | S6: ATM VENDUTA A TERZI o trasferita ad altro sito | U6: [t]
F7: 1 | G7: Energia elettrica | I7: kWh | L7: 0,187 x 10^-3 | O7: =J7*0.187*10^-3 -> 0 | P7: =SUM(O7:O22)-O18-O20 -> 0 | S7: ATM utilizzata nel sito produttivo | U7: [t] | V7: =V5-V6 -> 0
F8: 2 | G8: Gas naturale | I8: Sm3 | L8: 8.360 x 10 ^-7 | N8: 8360 | O8: =J8*N8*10^-7 -> 0 | S8: Gres porcellanato | U8: [t]
F9: 3 | G9: Energia Termica | I9: kWh | L9: 860/0,9 x 10^-7 | O9: =J9*860/0.9*10^-7 -> 0 | S9: Monocottura chiara | U9: [t]
F10: 4 | G10: Energia frigorifera | I10: kWh | L10: (1/ EER) x 0,187 x 10^-3 | N10: 3 | O10: =IF(N10=0,0,J10*(1/N10)*0.187*10^-3) -> 0 | S10: Monocottura rossa | U10: [t]
F11: 5 | G11: Biomassa | I11: t | L11: PCI (kcal/kg) x 10^-4 | O11: =J11*N11*10^-4 -> 0 | S11: Monoporosa | U11: [t]
F12: 6 | G12: Olio combustib. | I12: t | L12: PCI (kcal/kg) x 10^-4 | N12: 9800 | O12: =J12*N12*10^-4 -> 0 | S12: Bicottura | T12: prodotto finito | U12: [t]
F13: 7 | G13: GPL | I13: t | L13: PCI (kcal/kg) x 10^-4 | N13: 11000 | O13: =J13*N13*10^-4 -> 0 | T13: supporto cotto trasferito a terzi | U13: [t]
F14: 8 | G14: Gasolio | I14: t | L14: PCI (kcal/kg) x 10^-4 | N14: 10200 | O14: =J14*N14*10^-4 -> 0 | S14: Altro (indicare): | U14: [t]
F15: 9 | G15: Coke di petrolio | I15: t | L15: PCI (kcal/kg) x 10^-4 | N15: 8300 | O15: =J15*N15*10^-4 -> 0 | S15: Altro (indicare): | U15: [t]
F16: 10 | G16: Altro_1: | I16: tep | L16: 1 | O16: =J16*L16 -> 0 | S16: TOTALE PRODOTTI | U16: [t] | V16: =SUM(V8:V15) -> 0
F17: 11 | G17: Altro_2: | I17: tep | L17: 1 | O17: =J17 -> 0 | S17: Percentuale Prodotti soggetti a FINITURA | U17: [%]
F18: 12 | G18: Autoprod: Fotovoltaico | H18: Produzione | I18: kWh | L18: 0,187 x 10^-3 | O18: =J18*0.187*10^-3 -> 0 | S18: Percentuale prodotti soggetti a SMALTATURA | U18: [%]
H19: Autoconsumo | I19: kWh | L19: 0,187 x 10^-3 | O19: =J19*0.187*10^-3 -> 0 | S19: Superficie UFFICI E LABORATORI | V19: m2
F20: 13 | G20: Autoprod.: Eolico | H20: Produzione | I20: kWh | L20: 0,187 x 10^-3 | O20: =J20*0.187*10^-3 -> 0 | S20: Superficie Condizionata/riscaldata | V20: m2
H21: Autoconsumo | I21: kWh | L21: 0,187 x 10^-3 | O21: =J21*0.187*10^-3 -> 0 | S21: Superficie totale illuminata | V21: m2
F22: 14 | G22: Trasporti | I22: tep | J22: =M177 -> 0 | L22: 1 | O22: =J22 -> 0 | S22: Numero addetti Interni ed esterni | V22: n
G25: TEP x CLUSTERIZZAZIONE | H25: Percentuali di copertura per la misura nel settore INDUSTRIALE come suggerito da Linee guida ENEA
H26: Il sito è nel cluster di monitoraggio? | I26: Attività principali | J26: Servizi Ausiliari | K26: Servizi Generali
G27: =P7 -> 0 | H27: NO | I27: =IF($H$27<>"NO",VLOOKUP('Dati menù a tendina'!$F$15,'Dati menù a tendina'!$D$2:$I$12,4,0),"") | J27: =IF($H$27<>"NO",VLOOKUP('Dati menù a tendina'!$F$15,'Dati menù a tendina'!$D$2:$I$12,5,0),"") | K27: =IF($H$27<>"NO",VLOOKUP('Dati menù a tendina'!$F$15,'Dati menù a tendina'!$D$2:$I$12,6,0),"")
G29: COGENERAZIONE STIMA UTILIZZO CALORE FUMI ESSICCAZIONE e/o ATOMIZZAZIONE
G30: TECNOLOGIA
G31: RENDIMENTO TOTALE IMPIANTO COGENERAZIONE | J31: NON Disponibile | K31: rendimento Impianto [%]
G32: Potenza elettrica installata | J32: kW
G33: Gas naturale Cogenerazione | J33: Sm3
G34: produzione energia elettrica | J34: kWh
G35: energia elettrica autoconsumata | J35: Kwh
G36: Energia elettrica venduta | J36: kWh | K36: =K34-K35 -> 0
G37: Rendimento elettrico | J37: % | K37: ='Dati menù a tendina'!I31 -> 0
G38: Produzione altri usi termici (non essicazione) Acquacalda/Vapore (misurato e/o stimato) | J38: kWh
G39: Utilizzo GN (STIMATO) per ATOMIZZAZIONE e/o ESSICCAZIONE | J39: Sm3 | K39: ='Dati menù a tendina'!H35 -> 0
G40: ATOMIZZAZIONE percentuale utilizzo fumi (stima/misura) | J40: % | K40: 1 | L40: =K40*K39 -> 0
G41: ESSICCAZIONE percentuale utilizzo fumi | J41: % | K41: =1-K40 -> 0 | L41: =K39*K41 -> 0
A44: ENERGIA ELETTRICA | F44: CONSUMO | G44: TEP ING. | H44: Ipg
F45: kWh | G45: tep | H45: tipo misura | I45: Percentuale di Monitoraggio [%] | J45: =CONCATENATE(F45," / ",$R$4) -> kWh / t | K45: Consumi monitorati/ calcolati | L45: Altro | M45: % copertura consumi | N45: =IF(SUM(F50:F70,F73:F79,F82:F87)>0.95*F46,"Copertura del 95% dei consumi raggiunta","E' necessario dettagliare maggiormente la suddivisione dei consumi") -> E' necessario dettagliare maggiormente la suddivisione dei consumi
...

Sheet ATECO2007
A1: Tabella dei titoli a sei cifre della classificazione delle attività economiche Ateco 2007
A2: CODICE | B2: DESCRIZIONE | D2: APPARTENENZA | E2: SETTORE
A3: 23.31.00 | B3: Fabbricazione di piastrelle in ceramica per pavimenti e rivestimenti | C3: ok | D3: Industriale | E3: ceramica
A4: 23.32.00 | B4: Fabbricazione di mattoni, tegole ed altri prodotti per l'edilizia in terracotta | C4: ok | D4: Industriale | E4: ceramica
A5: 23.41.00 | B5: Fabbricazione di prodotti in ceramica per usi domestici e ornamentali | C5: ok | D5: Industriale | E5: ceramica
A6: 23.42.00 | B6: Fabbricazione di articoli sanitari in ceramica | C6: ok | D6: Industriale | E6: ceramica
A7: 23.43.00 | B7: Fabbricazione di isolatori e di pezzi isolanti in ceramica | C7: ok | D7: Industriale | E7: ceramica
A8: 23.44.00 | B8: Fabbricazione di altri prodotti in ceramica per uso tecnico e industriale | C8: ok | D8: Industriale | E8: ceramica
A9: 23.49.00 | B9: Fabbricazione di altri prodotti in ceramica | C9: ok | D9: Industriale | E9: ceramica

Sheet Dati menù a tendina
A1: Anno | Q1: … | R1: 0 | S1: 0.05 | T1: =S1+$S$1 -> 0.1 | U1: =T1+$S$1 -> 0.15 | V1: =U1+$S$1 -> 0.2 | W1: =V1+$S$1 -> 0.25 | X1: =W1+$S$1 -> 0.3 | Y1: =X1+$S$1 -> 0.35 | Z1: =Y1+$S$1 -> 0.4 | AA1: =Z1+$S$1 -> 0.45 | ... AL1: =AK1+$S$1 -> 1
A2: … | D2: =D3+1 -> 10 | E2: > 10.000 | G2: 0.85 | H2: 0.5 | I2: 0.2 | O2: 1 | P2: =Rendicontazione!H50 -> 0 | Q2: … | R2: =R$1*VLOOKUP($P2,$E$17:$F$22,2,FALSE) -> 0 | S2: =S$1*VLOOKUP($P2,$E$17:$F$22,2,FALSE) -> 0 | T2: =T$1*VLOOKUP($P2,$E$17:$F$22,2,FALSE) -> 0 | U2: =U$1*VLOOKUP($P2,$E$17:$F$22,2,FALSE) -> 0 | V2: =V$1*VLOOKUP($P2,$E$17:$F$22,2,FALSE) -> 0 | W2: =W$1*VLOOKUP($P2,$E$17:$F$22,2,FALSE) -> 0 | X2: =X$1*VLOOKUP($P2,$E$17:$F$22,2,FALSE) -> 0 | Y2: =Y$1*VLOOKUP($P2,$E$17:$F$22,2,FALSE) -> 0 | ... AL2: =AL$1*VLOOKUP($P2,$E$17:$F$22,2,FALSE) -> 0 | AN2: =Rendicontazione!F50*Rendicontazione!I50 -> 0
A3: 2017 | D3: =D4+1 -> 9 | E3: 8900 | F3: 10000 | G3: 0.8 | H3: 0.45 | I3: 0.2 | O3: 2 | P3: =Rendicontazione!H51 -> 0 | Q3: … | R3: =R$1*VLOOKUP($P3,$E$17:$F$22,2,FALSE) -> 0 | S3: =S$1*VLOOKUP($P3,$E$17:$F$22,2,FALSE) -> 0 | T3: =T$1*VLOOKUP($P3,$E$17:$F$22,2,FALSE) -> 0 | U3: =U$1*VLOOKUP($P3,$E$17:$F$22,2,FALSE) -> 0 | V3: =V$1*VLOOKUP($P3,$E$17:$F$22,2,FALSE) -> 0 | W3: =W$1*VLOOKUP($P3,$E$17:$F$22,2,FALSE) -> 0 | X3: =X$1*VLOOKUP($P3,$E$17:$F$22,2,FALSE) -> 0 | Y3: =Y$1*VLOOKUP($P3,$E$17:$F$22,2,FALSE) -> 0 | ... AL3: =AL$1*VLOOKUP($P3,$E$17:$F$22,2,FALSE) -> 0 | AN3: =Rendicontazione!F51*Rendicontazione!I51 -> 0
A4: 2018 | D4: =D5+1 -> 8 | E4: 7800 | F4: 8899 | G4: 0.75 | H4: 0.4 | I4: 0.2 | O4: 3 | P4: =Rendicontazione!H52 -> 0 | Q4: … | R4: =R$1*VLOOKUP($P4,$E$17:$F$22,2,FALSE) -> 0 | S4: =S$1*VLOOKUP($P4,$E$17:$F$22,2,FALSE) -> 0 | T4: =T$1*VLOOKUP($P4,$E$17:$F$22,2,FALSE) -> 0 | U4: =U$1*VLOOKUP($P4,$E$17:$F$22,2,FALSE) -> 0 | V4: =V$1*VLOOKUP($P4,$E$17:$F$22,2,FALSE) -> 0 | W4: =W$1*VLOOKUP($P4,$E$17:$F$22,2,FALSE) -> 0 | X4: =X$1*VLOOKUP($P4,$E$17:$F$22,2,FALSE) -> 0 | Y4: =Y$1*VLOOKUP($P4,$E$17:$F$22,2,FALSE) -> 0 | ... AL4: =AL$1*VLOOKUP($P4,$E$17:$F$22,2,FALSE) -> 0 | AN4: =Rendicontazione!F52*Rendicontazione!I52 -> 0
A5: 2019 | D5: =D6+1 -> 7 | E5: 6700 | F5: 7799 | G5: 0.7 | H5: 0.35 | I5: 0.2 | O5: 4 | P5: =Rendicontazione!H53 -> 0 | Q5: … | R5: =R$1*VLOOKUP($P5,$E$17:$F$22,2,FALSE) -> 0 | S5: =S$1*VLOOKUP($P5,$E$17:$F$22,2,FALSE) -> 0 | T5: =T$1*VLOOKUP($P5,$E$17:$F$22,2,FALSE) -> 0 | U5: =U$1*VLOOKUP($P5,$E$17:$F$22,2,FALSE) -> 0 | V5: =V$1*VLOOKUP($P5,$E$17:$F$22,2,FALSE) -> 0 | W5: =W$1*VLOOKUP($P5,$E$17:$F$22,2,FALSE) -> 0 | X5: =X$1*VLOOKUP($P5,$E$17:$F$22,2,FALSE) -> 0 | Y5: =Y$1*VLOOKUP($P5,$E$17:$F$22,2,FALSE) -> 0 | ... AL5: =AL$1*VLOOKUP($P5,$E$17:$F$22,2,FALSE) -> 0 | AN5: =Rendicontazione!F53*Rendicontazione!I53 -> 0
A6: 2020 | D6: =D7+1 -> 6 | E6: 5600 | F6: 6699 | G6: 0.65 | H6: 0.3 | I6: 0.2 | O6: 5 | P6: =Rendicontazione!H54 -> 0 | Q6: … | R6: =R$1*VLOOKUP($P6,$E$17:$F$22,2,FALSE) -> 0 | S6: =S$1*VLOOKUP($P6,$E$17:$F$22,2,FALSE) -> 0 | T6: =T$1*VLOOKUP($P6,$E$17:$F$22,2,FALSE) -> 0 | U6: =U$1*VLOOKUP($P6,$E$17:$F$22,2,FALSE) -> 0 | V6: =V$1*VLOOKUP($P6,$E$17:$F$22,2,FALSE) -> 0 | W6: =W$1*VLOOKUP($P6,$E$17:$F$22,2,FALSE) -> 0 | X6: =X$1*VLOOKUP($P6,$E$17:$F$22,2,FALSE) -> 0 | Y6: =Y$1*VLOOKUP($P6,$E$17:$F$22,2,FALSE) -> 0 | ... AL6: =AL$1*VLOOKUP($P6,$E$17:$F$22,2,FALSE) -> 0 | AN6: =Rendicontazione!F54*Rendicontazione!I54 -> 0
A7: 2021 | D7: =D8+1 -> 5 | E7: 4500 | F7: 5599 | G7: 0.6 | H7: 0.25 | I7: 0.1 | O7: 6 | P7: =Rendicontazione!H55 -> 0 | Q7: … | R7: =R$1*VLOOKUP($P7,$E$17:$F$22,2,FALSE) -> 0 | S7: =S$1*VLOOKUP($P7,$E$17:$F$22,2,FALSE) -> 0 | T7: =T$1*VLOOKUP($P7,$E$17:$F$22,2,FALSE) -> 0 | U7: =U$1*VLOOKUP($P7,$E$17:$F$22,2,FALSE) -> 0 | V7: =V$1*VLOOKUP($P7,$E$17:$F$22,2,FALSE) -> 0 | W7: =W$1*VLOOKUP($P7,$E$17:$F$22,2,FALSE) -> 0 | X7: =X$1*VLOOKUP($P7,$E$17:$F$22,2,FALSE) -> 0 | Y7: =Y$1*VLOOKUP($P7,$E$17:$F$22,2,FALSE) -> 0 | ... AL7: =AL$1*VLOOKUP($P7,$E$17:$F$22,2,FALSE) -> 0 | AN7: =Rendicontazione!F55*Rendicontazione!I55 -> 0
A8: 2022 | D8: =D9+1 -> 4 | E8: 3400 | F8: 4499 | G8: 0.55 | H8: 0.2 | I8: 0.1 | O8: 7 | P8: =Rendicontazione!H56 -> 0 | Q8: … | R8: =R$1*VLOOKUP($P8,$E$17:$F$22,2,FALSE) -> 0 | S8: =S$1*VLOOKUP($P8,$E$17:$F$22,2,FALSE) -> 0 | T8: =T$1*VLOOKUP($P8,$E$17:$F$22,2,FALSE) -> 0 | U8: =U$1*VLOOKUP($P8,$E$17:$F$22,2,FALSE) -> 0 | V8: =V$1*VLOOKUP($P8,$E$17:$F$22,2,FALSE) -> 0 | W8: =W$1*VLOOKUP($P8,$E$17:$F$22,2,FALSE) -> 0 | X8: =X$1*VLOOKUP($P8,$E$17:$F$22,2,FALSE) -> 0 | Y8: =Y$1*VLOOKUP($P8,$E$17:$F$22,2,FALSE) -> 0 | ... AL8: =AL$1*VLOOKUP($P8,$E$17:$F$22,2,FALSE) -> 0 | AN8: =Rendicontazione!F56*Rendicontazione!I56 -> 0
A9: 2023 | D9: =D10+1 -> 3 | E9: 2300 | F9: 3399 | G9: 0.5 | H9: 0.15 | I9: 0.1 | O9: 8 | P9: =Rendicontazione!H57 -> 0 | Q9: … | R9: =R$1*VLOOKUP($P9,$E$17:$F$22,2,FALSE) -> 0 | S9: =S$1*VLOOKUP($P9,$E$17:$F$22,2,FALSE) -> 0 | T9: =T$1*VLOOKUP($P9,$E$17:$F$22,2,FALSE) -> 0 | U9: =U$1*VLOOKUP($P9,$E$17:$F$22,2,FALSE) -> 0 | V9: =V$1*VLOOKUP($P9,$E$17:$F$22,2,FALSE) -> 0 | W9: =W$1*VLOOKUP($P9,$E$17:$F$22,2,FALSE) -> 0 | X9: =X$1*VLOOKUP($P9,$E$17:$F$22,2,FALSE) -> 0 | Y9: =Y$1*VLOOKUP($P9,$E$17:$F$22,2,FALSE) -> 0 | ... AL9: =AL$1*VLOOKUP($P9,$E$17:$F$22,2,FALSE) -> 0 | AN9: =Rendicontazione!F57*Rendicontazione!I57 -> 0
A10: 2024 | D10: =D11+1 -> 2 | E10: 1200 | F10: 2299 | G10: 0.45 | H10: 0.1 | I10: 0.05 | O10: 9 | P10: =Rendicontazione!H58 -> 0 | Q10: … | R10: =R$1*VLOOKUP($P10,$E$17:$F$22,2,FALSE) -> 0 | S10: =S$1*VLOOKUP($P10,$E$17:$F$22,2,FALSE) -> 0 | T10: =T$1*VLOOKUP($P10,$E$17:$F$22,2,FALSE) -> 0 | U10: =U$1*VLOOKUP($P10,$E$17:$F$22,2,FALSE) -> 0 | V10: =V$1*VLOOKUP($P10,$E$17:$F$22,2,FALSE) -> 0 | W10: =W$1*VLOOKUP($P10,$E$17:$F$22,2,FALSE) -> 0 | X10: =X$1*VLOOKUP($P10,$E$17:$F$22,2,FALSE) -> 0 | Y10: =Y$1*VLOOKUP($P10,$E$17:$F$22,2,FALSE) -> 0 | ... AL10: =AL$1*VLOOKUP($P10,$E$17:$F$22,2,FALSE) -> 0 | AN10: =Rendicontazione!F58*Rendicontazione!I58 -> 0
A11: 2025 | D11: 1 | E11: 100 | F11: 1199 | G11: 0.4 | H11: 0.05 | I11: 0.05 | O11: 10 | P11: =Rendicontazione!H59 -> 0 | Q11: … | R11: =R$1*VLOOKUP($P11,$E$17:$F$22,2,FALSE) -> 0 | S11: =S$1*VLOOKUP($P11,$E$17:$F$22,2,FALSE) -> 0 | T11: =T$1*VLOOKUP($P11,$E$17:$F$22,2,FALSE) -> 0 | U11: =U$1*VLOOKUP($P11,$E$17:$F$22,2,FALSE) -> 0 | V11: =V$1*VLOOKUP($P11,$E$17:$F$22,2,FALSE) -> 0 | W11: =W$1*VLOOKUP($P11,$E$17:$F$22,2,FALSE) -> 0 | X11: =X$1*VLOOKUP($P11,$E$17:$F$22,2,FALSE) -> 0 | Y11: =Y$1*VLOOKUP($P11,$E$17:$F$22,2,FALSE) -> 0 | ... AL11: =AL$1*VLOOKUP($P11,$E$17:$F$22,2,FALSE) -> 0 | AN11: =Rendicontazione!F59*Rendicontazione!I59 -> 0
A12: 2026 | D12: 0 | G12: non soggetto a monitoraggio | H12: non soggetto a monitoraggio | I12: non soggetto a monitoraggio | O12: 11 | P12: =Rendicontazione!H60 -> 0 | Q12: … | R12: =R$1*VLOOKUP($P12,$E$17:$F$22,2,FALSE) -> 0 | S12: =S$1*VLOOKUP($P12,$E$17:$F$22,2,FALSE) -> 0 | T12: =T$1*VLOOKUP($P12,$E$17:$F$22,2,FALSE) -> 0 | U12: =U$1*VLOOKUP($P12,$E$17:$F$22,2,FALSE) -> 0 | V12: =V$1*VLOOKUP($P12,$E$17:$F$22,2,FALSE) -> 0 | W12: =W$1*VLOOKUP($P12,$E$17:$F$22,2,FALSE) -> 0 | X12: =X$1*VLOOKUP($P12,$E$17:$F$22,2,FALSE) -> 0 | Y12: =Y$1*VLOOKUP($P12,$E$17:$F$22,2,FALSE) -> 0 | ... AL12: =AL$1*VLOOKUP($P12,$E$17:$F$22,2,FALSE) -> 0 | AN12: =Rendicontazione!F60*Rendicontazione!I60 -> 0
A13: 2027 | O13: 12 | P13: =Rendicontazione!H61 -> 0 | Q13: … | R13: =R$1*VLOOKUP($P13,$E$17:$F$22,2,FALSE) -> 0 | S13: =S$1*VLOOKUP($P13,$E$17:$F$22,2,FALSE) -> 0 | T13: =T$1*VLOOKUP($P13,$E$17:$F$22,2,FALSE) -> 0 | U13: =U$1*VLOOKUP($P13,$E$17:$F$22,2,FALSE) -> 0 | V13: =V$1*VLOOKUP($P13,$E$17:$F$22,2,FALSE) -> 0 | W13: =W$1*VLOOKUP($P13,$E$17:$F$22,2,FALSE) -> 0 | X13: =X$1*VLOOKUP($P13,$E$17:$F$22,2,FALSE) -> 0 | Y13: =Y$1*VLOOKUP($P13,$E$17:$F$22,2,FALSE) -> 0 | ... AL13: =AL$1*VLOOKUP($P13,$E$17:$F$22,2,FALSE) -> 0 | AN13: =Rendicontazione!F61*Rendicontazione!I61 -> 0
A14: 2028 | E14: uso per controllo fasce mon | O14: 13 | P14: =Rendicontazione!H62 -> 0 | Q14: … | R14: =R$1*VLOOKUP($P14,$E$17:$F$22,2,FALSE) -> 0 | S14: =S$1*VLOOKUP($P14,$E$17:$F$22,2,FALSE) -> 0 | T14: =T$1*VLOOKUP($P14,$E$17:$F$22,2,FALSE) -> 0 | U14: =U$1*VLOOKUP($P14,$E$17:$F$22,2,FALSE) -> 0 | V14: =V$1*VLOOKUP($P14,$E$17:$F$22,2,FALSE) -> 0 | W14: =W$1*VLOOKUP($P14,$E$17:$F$22,2,FALSE) -> 0 | X14: =X$1*VLOOKUP($P14,$E$17:$F$22,2,FALSE) -> 0 | Y14: =Y$1*VLOOKUP($P14,$E$17:$F$22,2,FALSE) -> 0 | ... AL14: =AL$1*VLOOKUP($P14,$E$17:$F$22,2,FALSE) -> 0 | AN14: =Rendicontazione!F62*Rendicontazione!I62 -> 0
E15: =INT((Rendicontazione!G27-100)/1100)+1 -> 0 | F15: =IF(AND(E15>=1,E15<10),E15,IF(E15>=10,10,0)) -> 0 | O15: 14 | P15: =Rendicontazione!H63 -> 0 | Q15: … | R15: =R$1*VLOOKUP($P15,$E$17:$F$22,2,FALSE) -> 0 | S15: =S$1*VLOOKUP($P15,$E$17:$F$22,2,FALSE) -> 0 | T15: =T$1*VLOOKUP($P15,$E$17:$F$22,2,FALSE) -> 0 | U15: =U$1*VLOOKUP($P15,$E$17:$F$22,2,FALSE) -> 0 | V15: =V$1*VLOOKUP($P15,$E$17:$F$22,2,FALSE) -> 0 | W15: =W$1*VLOOKUP($P15,$E$17:$F$22,2,FALSE) -> 0 | X15: =X$1*VLOOKUP($P15,$E$17:$F$22,2,FALSE) -> 0 | Y15: =Y$1*VLOOKUP($P15,$E$17:$F$22,2,FALSE) -> 0 | ... AL15: =AL$1*VLOOKUP($P15,$E$17:$F$22,2,FALSE) -> 0 | AN15: =Rendicontazione!F63*Rendicontazione!I63 -> 0
O16: 15 | P16: =Rendicontazione!H64 -> 0 | Q16: … | R16: =R$1*VLOOKUP($P16,$E$17:$F$22,2,FALSE) -> 0 | S16: =S$1*VLOOKUP($P16,$E$17:$F$22,2,FALSE) -> 0 | T16: =T$1*VLOOKUP($P16,$E$17:$F$22,2,FALSE) -> 0 | U16: =U$1*VLOOKUP($P16,$E$17:$F$22,2,FALSE) -> 0 | V16: =V$1*VLOOKUP($P16,$E$17:$F$22,2,FALSE) -> 0 | W16: =W$1*VLOOKUP($P16,$E$17:$F$22,2,FALSE) -> 0 | X16: =X$1*VLOOKUP($P16,$E$17:$F$22,2,FALSE) -> 0 | Y16: =Y$1*VLOOKUP($P16,$E$17:$F$22,2,FALSE) -> 0 | ... AL16: =AL$1*VLOOKUP($P16,$E$17:$F$22,2,FALSE) -> 0 | AN16: =Rendicontazione!F64*Rendicontazione!I64 -> 0
E17: 0 | F17: 0 | O17: 16 | P17: =Rendicontazione!H65 -> 0 | Q17: … | R17: =R$1*VLOOKUP($P17,$E$17:$F$22,2,FALSE) -> 0 | S17: =S$1*VLOOKUP($P17,$E$17:$F$22,2,FALSE) -> 0 | T17: =T$1*VLOOKUP($P17,$E$17:$F$22,2,FALSE) -> 0 | U17: =U$1*VLOOKUP($P17,$E$17:$F$22,2,FALSE) -> 0 | V17: =V$1*VLOOKUP($P17,$E$17:$F$22,2,FALSE) -> 0 | W17: =W$1*VLOOKUP($P17,$E$17:$F$22,2,FALSE) -> 0 | X17: =X$1*VLOOKUP($P17,$E$17:$F$22,2,FALSE) -> 0 | Y17: =Y$1*VLOOKUP($P17,$E$17:$F$22,2,FALSE) -> 0 | ... AL17: =AL$1*VLOOKUP($P17,$E$17:$F$22,2,FALSE) -> 0 | AN17: =Rendicontazione!F65*Rendicontazione!I65 -> 0
A18: 0 | E18: … | F18: 0 | I18: … | O18: 17 | P18: =Rendicontazione!H66 -> 0 | Q18: … | R18: =R$1*VLOOKUP($P18,$E$17:$F$22,2,FALSE) -> 0 | S18: =S$1*VLOOKUP($P18,$E$17:$F$22,2,FALSE) -> 0 | T18: =T$1*VLOOKUP($P18,$E$17:$F$22,2,FALSE) -> 0 | U18: =U$1*VLOOKUP($P18,$E$17:$F$22,2,FALSE) -> 0 | V18: =V$1*VLOOKUP($P18,$E$17:$F$22,2,FALSE) -> 0 | W18: =W$1*VLOOKUP($P18,$E$17:$F$22,2,FALSE) -> 0 | X18: =X$1*VLOOKUP($P18,$E$17:$F$22,2,FALSE) -> 0 | Y18: =Y$1*VLOOKUP($P18,$E$17:$F$22,2,FALSE) -> 0 | ... AL18: =AL$1*VLOOKUP($P18,$E$17:$F$22,2,FALSE) -> 0 | AN18: =Rendicontazione!F66*Rendicontazione!I66 -> 0
A19: 0.2 | E19: Installazioni fisse di strumenti misura | F19: 1 | I19: Misurato | O19: 18 | P19: =Rendicontazione!H67 -> 0 | Q19: … | R19: =R$1*VLOOKUP($P19,$E$17:$F$22,2,FALSE) -> 0 | S19: =S$1*VLOOKUP($P19,$E$17:$F$22,2,FALSE) -> 0 | T19: =T$1*VLOOKUP($P19,$E$17:$F$22,2,FALSE) -> 0 | U19: =U$1*VLOOKUP($P19,$E$17:$F$22,2,FALSE) -> 0 | V19: =V$1*VLOOKUP($P19,$E$17:$F$22,2,FALSE) -> 0 | W19: =W$1*VLOOKUP($P19,$E$17:$F$22,2,FALSE) -> 0 | X19: =X$1*VLOOKUP($P19,$E$17:$F$22,2,FALSE) -> 0 | Y19: =Y$1*VLOOKUP($P19,$E$17:$F$22,2,FALSE) -> 0 | ... AL19: =AL$1*VLOOKUP($P19,$E$17:$F$22,2,FALSE) -> 0 | AN19: =Rendicontazione!F67*Rendicontazione!I67 -> 0
A20: 0.4 | E20: Misure indirette (campionamenti, campagne di misura, ecc.) | F20: 1 | I20: Stimata | O20: 19 | P20: =Rendicontazione!H68 -> 0 | Q20: … | R20: =R$1*VLOOKUP($P20,$E$17:$F$22,2,FALSE) -> 0 | S20: =S$1*VLOOKUP($P20,$E$17:$F$22,2,FALSE) -> 0 | T20: =T$1*VLOOKUP($P20,$E$17:$F$22,2,FALSE) -> 0 | U20: =U$1*VLOOKUP($P20,$E$17:$F$22,2,FALSE) -> 0 | V20: =V$1*VLOOKUP($P20,$E$17:$F$22,2,FALSE) -> 0 | W20: =W$1*VLOOKUP($P20,$E$17:$F$22,2,FALSE) -> 0 | X20: =X$1*VLOOKUP($P20,$E$17:$F$22,2,FALSE) -> 0 | Y20: =Y$1*VLOOKUP($P20,$E$17:$F$22,2,FALSE) -> 0 | ... AL20: =AL$1*VLOOKUP($P20,$E$17:$F$22,2,FALSE) -> 0 | AN20: =Rendicontazione!F68*Rendicontazione!I68 -> 0
A21: 0.6 | E21: Strumenti + misure indirette | F21: 1 | O21: 20 | P21: =Rendicontazione!H69 -> 0 | Q21: … | R21: =R$1*VLOOKUP($P21,$E$17:$F$22,2,FALSE) -> 0 | S21: =S$1*VLOOKUP($P21,$E$17:$F$22,2,FALSE) -> 0 | T21: =T$1*VLOOKUP($P21,$E$17:$F$22,2,FALSE) -> 0 | U21: =U$1*VLOOKUP($P21,$E$17:$F$22,2,FALSE) -> 0 | V21: =V$1*VLOOKUP($P21,$E$17:$F$22,2,FALSE) -> 0 | W21: =W$1*VLOOKUP($P21,$E$17:$F$22,2,FALSE) -> 0 | X21: =X$1*VLOOKUP($P21,$E$17:$F$22,2,FALSE) -> 0 | Y21: =Y$1*VLOOKUP($P21,$E$17:$F$22,2,FALSE) -> 0 | ... AL21: =AL$1*VLOOKUP($P21,$E$17:$F$22,2,FALSE) -> 0 | AN21: =Rendicontazione!F69*Rendicontazione!I69 -> 0
A22: 0.8 | E22: Calcoli | F22: 0 | O22: 21 | P22: =Rendicontazione!H70 -> 0 | Q22: … | R22: =R$1*VLOOKUP($P22,$E$17:$F$22,2,FALSE) -> 0 | S22: =S$1*VLOOKUP($P22,$E$17:$F$22,2,FALSE) -> 0 | T22: =T$1*VLOOKUP($P22,$E$17:$F$22,2,FALSE) -> 0 | U22: =U$1*VLOOKUP($P22,$E$17:$F$22,2,FALSE) -> 0 | V22: =V$1*VLOOKUP($P22,$E$17:$F$22,2,FALSE) -> 0 | W22: =W$1*VLOOKUP($P22,$E$17:$F$22,2,FALSE) -> 0 | X22: =X$1*VLOOKUP($P22,$E$17:$F$22,2,FALSE) -> 0 | Y22: =Y$1*VLOOKUP($P22,$E$17:$F$22,2,FALSE) -> 0 | ... AL22: =AL$1*VLOOKUP($P22,$E$17:$F$22,2,FALSE) -> 0 | AN22: =Rendicontazione!F70*Rendicontazione!I70 -> 0
A23: 1 | O23: 22 | P23: =Rendicontazione!H71 -> 0 | Q23: … | R23: =R$1*VLOOKUP($P23,$E$17:$F$22,2,FALSE) -> 0 | S23: =S$1*VLOOKUP($P23,$E$17:$F$22,2,FALSE) -> 0 | T23: =T$1*VLOOKUP($P23,$E$17:$F$22,2,FALSE) -> 0 | U23: =U$1*VLOOKUP($P23,$E$17:$F$22,2,FALSE) -> 0 | V23: =V$1*VLOOKUP($P23,$E$17:$F$22,2,FALSE) -> 0 | W23: =W$1*VLOOKUP($P23,$E$17:$F$22,2,FALSE) -> 0 | X23: =X$1*VLOOKUP($P23,$E$17:$F$22,2,FALSE) -> 0 | Y23: =Y$1*VLOOKUP($P23,$E$17:$F$22,2,FALSE) -> 0 | ... AL23: =AL$1*VLOOKUP($P23,$E$17:$F$22,2,FALSE) -> 0 | AN23: =Rendicontazione!F71*Rendicontazione!I71 -> 0
E24: Cogenerazione
E25: Motore a combustione Interna | F25: 0.75
E26: Turbina a gas | F26: 0.75 | O26: 1 | P26: =Rendicontazione!H73 -> 0 | Q26: … | R26: =R$1*VLOOKUP($P26,$E$17:$F$22,2,FALSE) -> 0 | S26: =S$1*VLOOKUP($P26,$E$17:$F$22,2,FALSE) -> 0 | T26: =T$1*VLOOKUP($P26,$E$17:$F$22,2,FALSE) -> 0 | U26: =U$1*VLOOKUP($P26,$E$17:$F$22,2,FALSE) -> 0 | V26: =V$1*VLOOKUP($P26,$E$17:$F$22,2,FALSE) -> 0 | W26: =W$1*VLOOKUP($P26,$E$17:$F$22,2,FALSE) -> 0 | X26: =X$1*VLOOKUP($P26,$E$17:$F$22,2,FALSE) -> 0 | Y26: =Y$1*VLOOKUP($P26,$E$17:$F$22,2,FALSE) -> 0 | ... AL26: =AL$1*VLOOKUP($P26,$E$17:$F$22,2,FALSE) -> 0 | AN26: =Rendicontazione!F73*Rendicontazione!I73 -> 0
O27: 2 | P27: =Rendicontazione!H74 -> 0 | Q27: … | R27: =R$1*VLOOKUP($P27,$E$17:$F$22,2,FALSE) -> 0 | S27: =S$1*VLOOKUP($P27,$E$17:$F$22,2,FALSE) -> 0 | T27: =T$1*VLOOKUP($P27,$E$17:$F$22,2,FALSE) -> 0 | U27: =U$1*VLOOKUP($P27,$E$17:$F$22,2,FALSE) -> 0 | V27: =V$1*VLOOKUP($P27,$E$17:$F$22,2,FALSE) -> 0 | W27: =W$1*VLOOKUP($P27,$E$17:$F$22,2,FALSE) -> 0 | X27: =X$1*VLOOKUP($P27,$E$17:$F$22,2,FALSE) -> 0 | Y27: =Y$1*VLOOKUP($P27,$E$17:$F$22,2,FALSE) -> 0 | ... AL27: =AL$1*VLOOKUP($P27,$E$17:$F$22,2,FALSE) -> 0 | AN27: =Rendicontazione!F74*Rendicontazione!I74 -> 0
I28: 0.75 | O28: 3 | P28: =Rendicontazione!H75 -> 0 | Q28: … | R28: =R$1*VLOOKUP($P28,$E$17:$F$22,2,FALSE) -> 0 | S28: =S$1*VLOOKUP($P28,$E$17:$F$22,2,FALSE) -> 0 | T28: =T$1*VLOOKUP($P28,$E$17:$F$22,2,FALSE) -> 0 | U28: =U$1*VLOOKUP($P28,$E$17:$F$22,2,FALSE) -> 0 | V28: =V$1*VLOOKUP($P28,$E$17:$F$22,2,FALSE) -> 0 | W28: =W$1*VLOOKUP($P28,$E$17:$F$22,2,FALSE) -> 0 | X28: =X$1*VLOOKUP($P28,$E$17:$F$22,2,FALSE) -> 0 | Y28: =Y$1*VLOOKUP($P28,$E$17:$F$22,2,FALSE) -> 0 | ... AL28: =AL$1*VLOOKUP($P28,$E$17:$F$22,2,FALSE) -> 0 | AN28: =Rendicontazione!F75*Rendicontazione!I75 -> 0
E29: Potenza elettrica installata | G29: kW | H29: =Rendicontazione!K32 -> 0 | O29: 4 | P29: =Rendicontazione!H76 -> 0 | Q29: … | R29: =R$1*VLOOKUP($P29,$E$17:$F$22,2,FALSE) -> 0 | S29: =S$1*VLOOKUP($P29,$E$17:$F$22,2,FALSE) -> 0 | T29: =T$1*VLOOKUP($P29,$E$17:$F$22,2,FALSE) -> 0 | U29: =U$1*VLOOKUP($P29,$E$17:$F$22,2,FALSE) -> 0 | V29: =V$1*VLOOKUP($P29,$E$17:$F$22,2,FALSE) -> 0 | W29: =W$1*VLOOKUP($P29,$E$17:$F$22,2,FALSE) -> 0 | X29: =X$1*VLOOKUP($P29,$E$17:$F$22,2,FALSE) -> 0 | Y29: =Y$1*VLOOKUP($P29,$E$17:$F$22,2,FALSE) -> 0 | ... AL29: =AL$1*VLOOKUP($P29,$E$17:$F$22,2,FALSE) -> 0 | AN29: =Rendicontazione!F76*Rendicontazione!I76 -> 0
E30: Gas naturale Congenerazione | G30: Sm3 | H30: =Rendicontazione!K33 -> 0 | O30: 5 | P30: =Rendicontazione!H77 -> 0 | Q30: … | R30: =R$1*VLOOKUP($P30,$E$17:$F$22,2,FALSE) -> 0 | S30: =S$1*VLOOKUP($P30,$E$17:$F$22,2,FALSE) -> 0 | T30: =T$1*VLOOKUP($P30,$E$17:$F$22,2,FALSE) -> 0 | U30: =U$1*VLOOKUP($P30,$E$17:$F$22,2,FALSE) -> 0 | V30: =V$1*VLOOKUP($P30,$E$17:$F$22,2,FALSE) -> 0 | W30: =W$1*VLOOKUP($P30,$E$17:$F$22,2,FALSE) -> 0 | X30: =X$1*VLOOKUP($P30,$E$17:$F$22,2,FALSE) -> 0 | Y30: =Y$1*VLOOKUP($P30,$E$17:$F$22,2,FALSE) -> 0 | ... AL30: =AL$1*VLOOKUP($P30,$E$17:$F$22,2,FALSE) -> 0 | AN30: =Rendicontazione!F77*Rendicontazione!I77 -> 0
E31: produzione energia elettrica | G31: kWh | H31: =Rendicontazione!K34 -> 0 | I31: =IFERROR(H31/(H30*9.6),0) -> 0 | O31: 6 | P31: =Rendicontazione!H78 -> 0 | Q31: … | R31: =R$1*VLOOKUP($P31,$E$17:$F$22,2,FALSE) -> 0 | S31: =S$1*VLOOKUP($P31,$E$17:$F$22,2,FALSE) -> 0 | T31: =T$1*VLOOKUP($P31,$E$17:$F$22,2,FALSE) -> 0 | U31: =U$1*VLOOKUP($P31,$E$17:$F$22,2,FALSE) -> 0 | V31: =V$1*VLOOKUP($P31,$E$17:$F$22,2,FALSE) -> 0 | W31: =W$1*VLOOKUP($P31,$E$17:$F$22,2,FALSE) -> 0 | X31: =X$1*VLOOKUP($P31,$E$17:$F$22,2,FALSE) -> 0 | Y31: =Y$1*VLOOKUP($P31,$E$17:$F$22,2,FALSE) -> 0 | ... AL31: =AL$1*VLOOKUP($P31,$E$17:$F$22,2,FALSE) -> 0 | AN31: =Rendicontazione!F78*Rendicontazione!I78 -> 0
E32: energia elettrica autoconsumata | G32: Kwh | H32: =Rendicontazione!K35 -> 0 | O32: 7 | P32: =Rendicontazione!H79 -> 0 | Q32: … | R32: =R$1*VLOOKUP($P32,$E$17:$F$22,2,FALSE) -> 0 | S32: =S$1*VLOOKUP($P32,$E$17:$F$22,2,FALSE) -> 0 | T32: =T$1*VLOOKUP($P32,$E$17:$F$22,2,FALSE) -> 0 | U32: =U$1*VLOOKUP($P32,$E$17:$F$22,2,FALSE) -> 0 | V32: =V$1*VLOOKUP($P32,$E$17:$F$22,2,FALSE) -> 0 | W32: =W$1*VLOOKUP($P32,$E$17:$F$22,2,FALSE) -> 0 | X32: =X$1*VLOOKUP($P32,$E$17:$F$22,2,FALSE) -> 0 | Y32: =Y$1*VLOOKUP($P32,$E$17:$F$22,2,FALSE) -> 0 | ... AL32: =AL$1*VLOOKUP($P32,$E$17:$F$22,2,FALSE) -> 0 | AN32: =Rendicontazione!F79*Rendicontazione!I79 -> 0
E33: Energia elettrica venduta | G33: kWh | H33: =Rendicontazione!K36 -> 0
E34: Produzione altri usi termici (non essicazione) | G34: kWh | H34: =Rendicontazione!K38 -> 0 | I34: =IFERROR(H34/(H30*9.6),0) -> 0
E35: Utilizzo per essiccazione STIMATO | G35: Sm3 | H35: =H30*I35 -> 0 | I35: =IF(Rendicontazione!J31="NON Disponibile",IF(I28-I31-I34<=0,0,I28-I31-I34),IF(Rendicontazione!L31-I31-I34<=0,0,Rendicontazione!L31-I31-I34)) -> 0.75
E37: Recupero calore fumi per ATM | O37: 1 | P37: =Rendicontazione!H82 -> 0 | Q37: … | R37: =R$1*VLOOKUP($P37,$E$17:$F$22,2,FALSE) -> 0 | S37: =S$1*VLOOKUP($P37,$E$17:$F$22,2,FALSE) -> 0 | T37: =T$1*VLOOKUP($P37,$E$17:$F$22,2,FALSE) -> 0 | U37: =U$1*VLOOKUP($P37,$E$17:$F$22,2,FALSE) -> 0 | V37: =V$1*VLOOKUP($P37,$E$17:$F$22,2,FALSE) -> 0 | W37: =W$1*VLOOKUP($P37,$E$17:$F$22,2,FALSE) -> 0 | X37: =X$1*VLOOKUP($P37,$E$17:$F$22,2,FALSE) -> 0 | Y37: =Y$1*VLOOKUP($P37,$E$17:$F$22,2,FALSE) -> 0 | ... AL37: =AL$1*VLOOKUP($P37,$E$17:$F$22,2,FALSE) -> 0 | AN37: =Rendicontazione!F82*Rendicontazione!I82 -> 0
E38: Recupero calore fumi per ATM ed ESSICCAZIONE | O38: 2 | P38: =Rendicontazione!H83 -> 0 | Q38: … | R38: =R$1*VLOOKUP($P38,$E$17:$F$22,2,FALSE) -> 0 | S38: =S$1*VLOOKUP($P38,$E$17:$F$22,2,FALSE) -> 0 | T38: =T$1*VLOOKUP($P38,$E$17:$F$22,2,FALSE) -> 0 | U38: =U$1*VLOOKUP($P38,$E$17:$F$22,2,FALSE) -> 0 | V38: =V$1*VLOOKUP($P38,$E$17:$F$22,2,FALSE) -> 0 | W38: =W$1*VLOOKUP($P38,$E$17:$F$22,2,FALSE) -> 0 | X38: =X$1*VLOOKUP($P38,$E$17:$F$22,2,FALSE) -> 0 | Y38: =Y$1*VLOOKUP($P38,$E$17:$F$22,2,FALSE) -> 0 | ... AL38: =AL$1*VLOOKUP($P38,$E$17:$F$22,2,FALSE) -> 0 | AN38: =Rendicontazione!F83*Rendicontazione!I83 -> 0
E39: Recupero calore per produzione calore ACQUACALDA/VAPORE e fumi ATM | O39: 3 | P39: =Rendicontazione!H84 -> 0 | Q39: … | R39: =R$1*VLOOKUP($P39,$E$17:$F$22,2,FALSE) -> 0 | S39: =S$1*VLOOKUP($P39,$E$17:$F$22,2,FALSE) -> 0 | T39: =T$1*VLOOKUP($P39,$E$17:$F$22,2,FALSE) -> 0 | U39: =U$1*VLOOKUP($P39,$E$17:$F$22,2,FALSE) -> 0 | V39: =V$1*VLOOKUP($P39,$E$17:$F$22,2,FALSE) -> 0 | W39: =W$1*VLOOKUP($P39,$E$17:$F$22,2,FALSE) -> 0 | X39: =X$1*VLOOKUP($P39,$E$17:$F$22,2,FALSE) -> 0 | Y39: =Y$1*VLOOKUP($P39,$E$17:$F$22,2,FALSE) -> 0 | ... AL39: =AL$1*VLOOKUP($P39,$E$17:$F$22,2,FALSE) -> 0 | AN39: =Rendicontazione!F84*Rendicontazione!I84 -> 0
O40: 4 | P40: =Rendicontazione!H85 -> 0 | Q40: … | R40: =R$1*VLOOKUP($P40,$E$17:$F$22,2,FALSE) -> 0 | S40: =S$1*VLOOKUP($P40,$E$17:$F$22,2,FALSE) -> 0 | T40: =T$1*VLOOKUP($P40,$E$17:$F$22,2,FALSE) -> 0 | U40: =U$1*VLOOKUP($P40,$E$17:$F$22,2,FALSE) -> 0 | V40: =V$1*VLOOKUP($P40,$E$17:$F$22,2,FALSE) -> 0 | W40: =W$1*VLOOKUP($P40,$E$17:$F$22,2,FALSE) -> 0 | X40: =X$1*VLOOKUP($P40,$E$17:$F$22,2,FALSE) -> 0 | Y40: =Y$1*VLOOKUP($P40,$E$17:$F$22,2,FALSE) -> 0 | ... AL40: =AL$1*VLOOKUP($P40,$E$17:$F$22,2,FALSE) -> 0 | AN40: =Rendicontazione!F85*Rendicontazione!I85 -> 0
O41: 5 | P41: =Rendicontazione!H86 -> 0 | Q41: … | R41: =R$1*VLOOKUP($P41,$E$17:$F$22,2,FALSE) -> 0 | S41: =S$1*VLOOKUP($P41,$E$17:$F$22,2,FALSE) -> 0 | T41: =T$1*VLOOKUP($P41,$E$17:$F$22,2,FALSE) -> 0 | U41: =U$1*VLOOKUP($P41,$E$17:$F$22,2,FALSE) -> 0 | V41: =V$1*VLOOKUP($P41,$E$17:$F$22,2,FALSE) -> 0 | W41: =W$1*VLOOKUP($P41,$E$17:$F$22,2,FALSE) -> 0 | X41: =X$1*VLOOKUP($P41,$E$17:$F$22,2,FALSE) -> 0 | Y41: =Y$1*VLOOKUP($P41,$E$17:$F$22,2,FALSE) -> 0 | ... AL41: =AL$1*VLOOKUP($P41,$E$17:$F$22,2,FALSE) -> 0 | AN41: =Rendicontazione!F86*Rendicontazione!I86 -> 0
...
