Workbook

Sheet Rendicontazione
A1: CERAMICA | B1: STRUTTURA ENERGETICA SITO (Compilare solo le caselle a sfondo bianco)
A2: LA | B2: ID_SITO | F2: NOME | I2: INDIRIZZO | L2: P.IVA [IT00000000000] | N2: SETTORE MERC. | P2: ANNO riferimento | Q2: TIPOLOGIA PRODUTTIVA PREVALENTE:
I3: Città | J3: Via/Piazza/Viale/etc. | N3: [ATECO2007: xx.yy.zz] | O3: declaratoria | Q3: [valore] | R3: [u.m.] | S3: TIPOLOGIA | U3: massa [t] | W3: dimensionale [m2] o [m3]
O4: =IFERROR(VLOOKUP(N4,[1]ATECO2007!A3:B1229,2,0),"") | Q4: =IF(V16=0,V5,V16+V6) -> 0 | R4: t
S5: Produzione ATM | U5: [t]
B6: CONSUMI | F6: CODICE | G6: VETTORE | I6: u.m. | J6: valore | L6: Fattore conversione in tep | N6: PCI/EERe | O6: TEP | P6: Vtot [tep] | S6: ATM VENDUTA A TERZI o trasferita ad altro sito | U6: [t]
F7: 1 | G7: Energia elettrica | I7: kWh | L7: 0,187 x 10^-3 | O7: =J7*0.187*10^-3 -> 0 | P7: =SUM(O7:O22)-O18-O20 -> 0 | S7: ATM utilizzata nel sito produttivo | U7: [t] | V7: =V5-V6 -> 0
F8: 2 | G8: Gas naturale | I8: Sm3 | L8: 8.360 x 10 ^-7 | N8: 8360 | O8: =J8*N8*10^-7 -> 0 | S8: Gres porcellanato | U8: [t]
F9: 3 | G9: Energia Termica | I9: kWh | L9: 860/0,9 x 10^-7 | O9: =J9*860/0.9*10^-7 -> 0 | S9: Monocottura chiara | U9: [t]
F10: 4 | G10: Energia frigorifera | I10: kWh | L10: (1/ EER) x 0,187 x 10^-3 | N10: 3 | O10: =IF(N10=0,0,J10*(1/N10)*0.187*10^-3) -> 0 | S10: Monocottura rossa | U10: [t]
F11: 5 | G11: Biomassa | I11: t | L11: PCI (kcal/kg) x 10^-4 | O11: =J11*N11*10^-4 -> 0 | S11: Monoporosa | U11: [t]
F12: 6 | G12: Olio combustib. | I12: t | L12: PCI (kcal/kg) x 10^-4 | N12: 9800 | O12: =J12*N12*10^-4 -> 0 | S12: Bicottura | T12: prodotto finito | U12: [t]
F13: 7 | G13: GPL | I13: t | L13: PCI (kcal/kg) x 10^-4 | N13: 11000 | O13: =J13*N13*10^-4 -> 0 | T13: supporto cotto trasferito a terzi | U13: [t]
F14: 8 | G14: Gasolio | I14: t | L14: PCI (kcal/kg) x 10^-4 | N14: 10200 | O14: =J14*N14*10^-4 -> 0 | S14: Altro (indicare): | U14: [t]
F15: 9 | G15: Coke di petrolio | I15: t | L15: PCI (kcal/kg) x 10^-4 | N15: 8300 | O15: =J15*N15*10^-4 -> 0 | S15: Altro (indicare): | U15: [t]
F16: 10 | G16: Altro_1: | I16: tep | L16: 1 | O16: =J16*L16 -> 0 | S16: TOTALE PRODOTTI | U16: [t] | V16: =SUM(V8:V15) -> 0
F17: 11 | G17: Altro_2: | I17: tep | L17: 1 | O17: =J17 -> 0 | S17: Percentuale Prodotti soggetti a FINITURA | U17: [%]
F18: 12 | G18: Autoprod: Fotovoltaico | H18: Produzione | I18: kWh | L18: 0,187 x 10^-3 | O18: =J18*0.187*10^-3 -> 0 | S18: Percentuale prodotti soggetti a SMALTATURA | U18: [%]
H19: Autoconsumo | I19: kWh | L19: 0,187 x 10^-3 | O19: =J19*0.187*10^-3 -> 0 | S19: Superficie UFFICI E LABORATORI | V19: m2
F20: 13 | G20: Autoprod.: Eolico | H20: Produzione | I20: kWh | L20: 0,187 x 10^-3 | O20: =J20*0.187*10^-3 -> 0 | S20: Superficie Condizionata/riscaldata | V20: m2
H21: Autoconsumo | I21: kWh | L21: 0,187 x 10^-3 | O21: =J21*0.187*10^-3 -> 0 | S21: Superficie totale illuminata | V21: m2
F22: 14 | G22: Trasporti | I22: tep | J22: =M177 -> 0 | L22: 1 | O22: =J22 -> 0 | S22: Numero addetti Interni ed esterni | V22: n
G25: TEP x CLUSTERIZZAZIONE | H25: Percentuali di copertura per la misura nel settore INDUSTRIALE come suggerito da Linee guida ENEA
H26: Il sito è nel cluster di monitoraggio? | I26: Attività principali | J26: Servizi Ausiliari | K26: Servizi Generali
G27: =P7 -> 0 | H27: NO | I27: =IF($H$27<>"NO",VLOOKUP('Dati menù a tendina'!$F$15,'Dati menù a tendina'!$D$2:$I$12,4,0),"") | J27: =IF($H$27<>"NO",VLOOKUP('Dati menù a tendina'!$F$15,'Dati menù a tendina'!$D$2:$I$12,5,0),"") | K27: =IF($H$27<>"NO",VLOOKUP('Dati menù a tendina'!$F$15,'Dati menù a tendina'!$D$2:$I$12,6,0),"")
G29: COGENERAZIONE STIMA UTILIZZO CALORE FUMI ESSICCAZIONE e/o ATOMIZZAZIONE
G30: TECNOLOGIA
G31: RENDIMENTO TOTALE IMPIANTO COGENERAZIONE | J31: NON Disponibile | K31: rendimento Impianto [%]
G32: Potenza elettrica installata | J32: kW
G33: Gas naturale Cogenerazione | J33: Sm3
G34: produzione energia elettrica | J34: kWh
G35: energia elettrica autoconsumata | J35: Kwh
G36: Energia elettrica venduta | J36: kWh | K36: =K34-K35 -> 0
G37: Rendimento elettrico | J37: % | K37: ='Dati menù a tendina'!I31 -> 0
G38: Produzione altri usi termici (non essicazione) Acquacalda/Vapore (misurato e/o stimato) | J38: kWh
G39: Utilizzo GN (STIMATO) per ATOMIZZAZIONE e/o ESSICCAZIONE | J39: Sm3 | K39: ='Dati menù a tendina'!H35 -> 0
G40: ATOMIZZAZIONE percentuale utilizzo fumi (stima/misura) | J40: % | K40: 1 | L40: =K40*K39 -> 0
G41: ESSICCAZIONE percentuale utilizzo fumi | J41: % | K41: =1-K40 -> 0 | L41: =K39*K41 -> 0
A44: ENERGIA ELETTRICA | F44: CONSUMO | G44: TEP ING. | H44: Ipg
F45: kWh | G45: tep | H45: tipo misura | I45: Percentuale di Monitoraggio [%] | J45: =CONCATENATE(F45," / ",$R$4) -> kWh / t | K45: Consumi monitorati/ calcolati | L45: Altro | M45: % copertura consumi | N45: =IF(SUM(F50:F70,F73:F79,F82:F87)>0.95*F46,"Copertura del 95% dei consumi raggiunta","E' necessario dettagliare maggiormente la suddivisione dei consumi") -> E' necessario dettagliare maggiormente la suddivisione dei consumi
A46: LB | B46: j=1 | C46: ENERGIA ELETTRICA | F46: =J7+J19+J21+K35 -> 0 | G46: =F46*0.187*10^-3 -> 0 | I46: =IFERROR((F49*I49+F72*I72+F81*I81)/F46,0) -> 0 | J46: =IFERROR(F46/$Q$4,"") | K46: =F49+F72+F81 -> 0 | L46: =F46-K46 -> 0 | M46: =IFERROR(K46/F46,0) -> 0
F48: CONSUMO | G48: TEP ING. | H48: Ipg | K48: D.s. | M48: Ips
A49: LC | B49: 1.1 | C49: ATTIVITA' PRINCIPALI | F49: =SUM(F50:F70) -> 0 | G49: =IF(F49=0,"",(F49*0.187*10^-3)) | H49: Monitoraggio | I49: =IFERROR(SUM('Dati menù a tendina'!AN2:AN22)/Rendicontazione!F49,0%) -> 0 | K49: valore | L49: u.m. | M49: tipo misura | N49: valore | O49: u.m.
A50: LD | B50: 1.1.1 | C50: ATM | D50: MACINAZIONE | G50: =IF(F50=0,"",(F50*0.187*10^-3)) | J50: =IFERROR(F50/$Q$4,"") | K50: =$V$5 -> 0 | L50: t | N50: =IF(K50=0,"",F50/K50) | O50: =IF(L50=0," ",(CONCATENATE($F$45," / ",L50))) -> kWh / t
B51: 1.1.2 | D51: ATOMIZZAZIONE | G51: =IF(F51=0,"",(F51*0.187*10^-3)) | J51: =IFERROR(F51/$Q$4,"") | K51: =$V$5 -> 0 | L51: t | N51: =IF(K51=0,"",F51/K51) | O51: =IF(L51=0," ",(CONCATENATE($F$45," / ",L51))) -> kWh / t
B52: 1.1.3 | D52: ALTRO | G52: =IF(F52=0,"",(F52*0.187*10^-3)) | J52: =IFERROR(F52/$Q$4,"") | K52: =$V$5 -> 0 | L52: t | N52: =IF(K52=0,"",F52/K52) | O52: =IF(L52=0," ",(CONCATENATE($F$45," / ",L52))) -> kWh / t
B53: 1.1.4 | D53: ALTRO | G53: =IF(F53=0,"",(F53*0.187*10^-3)) | J53: =IFERROR(F53/$Q$4,"") | K53: =$V$5 -> 0 | L53: t | N53: =IF(K53=0,"",F53/K53) | O53: =IF(L53=0," ",(CONCATENATE($F$45," / ",L53))) -> kWh / t
B54: 1.1.5 | D54: ALTRO | G54: =IF(F54=0,"",(F54*0.187*10^-3)) | J54: =IFERROR(F54/$Q$4,"") | K54: =$V$5 -> 0 | L54: t | N54: =IF(K54=0,"",F54/K54) | O54: =IF(L54=0," ",(CONCATENATE($F$45," / ",L54))) -> kWh / t
B55: 1.1.6 | C55: PRODUZIONE | D55: PRESSATURA | G55: =IF(F55=0,"",(F55*0.187*10^-3)) | J55: =IFERROR(F55/$Q$4,"") | K55: =SUM($V$8:$V$15) -> 0 | L55: t | N55: =IF(K55=0,"",F55/K55) | O55: =IF(L55=0," ",(CONCATENATE($F$45," / ",L55))) -> kWh / t
B56: 1.1.7 | D56: ESSICCAZIONE | G56: =IF(F56=0,"",(F56*0.187*10^-3)) | J56: =IFERROR(F56/$Q$4,"") | K56: =SUM($V$8:$V$12) -> 0 | L56: t | N56: =IF(K56=0,"",F56/K56) | O56: =IF(L56=0," ",(CONCATENATE($F$45," / ",L56))) -> kWh / t
B57: 1.1.9 | D57: COTTURA | G57: =IF(F57=0,"",(F57*0.187*10^-3)) | J57: =IFERROR(F57/$Q$4,"") | K57: =SUM($V$8:$V$15) -> 0 | L57: t | N57: =IF(K57=0,"",F57/K57) | O57: =IF(L57=0," ",(CONCATENATE($F$45," / ",L57))) -> kWh / t
B58: 1.1.10 | D58: PREPARAZIONE SMALTI E SMALTATURA | G58: =IF(F58=0,"",(F58*0.187*10^-3)) | J58: =IFERROR(F58/$Q$4,"") | K58: =V16*V18 -> 0 | L58: t | N58: =IF(K58=0,"",F58/K58) | O58: =IF(L58=0," ",(CONCATENATE($F$45," / ",L58))) -> kWh / t
B59: 1.1.11 | D59: LAVORAZIONI MECCANICHE/FINITURA | G59: =IF(F59=0,"",(F59*0.187*10^-3)) | J59: =IFERROR(F59/$Q$4,"") | K59: =V16*V17 -> 0 | L59: t | N59: =IF(K59=0,"",F59/K59) | O59: =IF(L59=0," ",(CONCATENATE($F$45," / ",L59))) -> kWh / t
B60: 1.1.12 | D60: TERZO FUOCO | G60: =IF(F60=0,"",(F60*0.187*10^-3)) | J60: =IFERROR(F60/$Q$4,"") | N60: =IF(K60=0,"",F60/K60) | O60: =IF(L60=0," ",(CONCATENATE($F$45," / ",L60)))
B61: 1.1.13 | D61: ALTRO | G61: =IF(F61=0,"",(F61*0.187*10^-3)) | J61: =IFERROR(F61/$Q$4,"") | N61: =IF(K61=0,"",F61/K61) | O61: =IF(L61=0," ",(CONCATENATE($F$45," / ",L61)))
B62: 1.1.14 | D62: ALTRO | G62: =IF(F62=0,"",(F62*0.187*10^-3)) | J62: =IFERROR(F62/$Q$4,"") | N62: =IF(K62=0,"",F62/K62) | O62: =IF(L62=0," ",(CONCATENATE($F$45," / ",L62)))
B63: 1.1.15 | C63: CONFEZIONAMENTO | D63: SCELTA E CONFEZIONAMENTO CERAMICHE | G63: =IF(F63=0,"",(F63*0.187*10^-3)) | J63: =IFERROR(F63/$Q$4,"") | K63: =Q4 -> 0 | L63: t | N63: =IF(K63=0,"",F63/K63) | O63: =IF(L63=0," ",(CONCATENATE($F$45," / ",L63))) -> kWh / t
B64: 1.1.16 | D64: ALTRO | G64: =IF(F64=0,"",(F64*0.187*10^-3)) | J64: =IFERROR(F64/$Q$4,"") | N64: =IF(K64=0,"",F64/K64) | O64: =IF(L64=0," ",(CONCATENATE($F$45," / ",L64)))
B65: 1.1.17 | D65: ALTRO | G65: =IF(F65=0,"",(F65*0.187*10^-3)) | J65: =IFERROR(F65/$Q$4,"") | N65: =IF(K65=0,"",F65/K65) | O65: =IF(L65=0," ",(CONCATENATE($F$45," / ",L65)))
B66: 1.1.18 | D66: ALTRO | G66: =IF(F66=0,"",(F66*0.187*10^-3)) | J66: =IFERROR(F66/$Q$4,"") | N66: =IF(K66=0,"",F66/K66) | O66: =IF(L66=0," ",(CONCATENATE($F$45," / ",L66)))
B67: 1.1.19 | C67: ALTRO | D67: ALTRO | G67: =IF(F67=0,"",(F67*0.187*10^-3)) | J67: =IFERROR(F67/$Q$4,"") | N67: =IF(K67=0,"",F67/K67) | O67: =IF(L67=0," ",(CONCATENATE($F$45," / ",L67)))
B68: 1.1.20 | D68: ALTRO | G68: =IF(F68=0,"",(F68*0.187*10^-3)) | J68: =IFERROR(F68/$Q$4,"") | N68: =IF(K68=0,"",F68/K68) | O68: =IF(L68=0," ",(CONCATENATE($F$45," / ",L68)))
B69: 1.1.21 | D69: ALTRO | G69: =IF(F69=0,"",(F69*0.187*10^-3)) | J69: =IFERROR(F69/$Q$4,"") | N69: =IF(K69=0,"",F69/K69) | O69: =IF(L69=0," ",(CONCATENATE($F$45," / ",L69)))
B70: 1.1.22 | D70: ALTRO | G70: =IF(F70=0,"",(F70*0.187*10^-3)) | J70: =IFERROR(F70/$Q$4,"") | N70: =IF(K70=0,"",F70/K70) | O70: =IF(L70=0," ",(CONCATENATE($F$45," / ",L70)))
A72: LC | B72: 1.2 | C72: SERVIZI AUSILIARI | F72: =SUM(F73:F79) -> 0 | G72: =IF(F72=0,"",(F72*0.187*10^-3)) | H72: Monitoraggio | I72: =IFERROR(SUM('Dati menù a tendina'!AN26:AN32)/Rendicontazione!F72,0) -> 0 | J72: =IFERROR(F72/$Q$4,"") | K72: valore | L72: u.m. | M72: tipo misura | N72: valore | O72: u.m.
A73: LD | B73: 1.2.1 | C73: SERVIZI AUSILIARI | D73: MOVIMENTAZIONE (LGV, carrelli) | G73: =IF(F73=0,"",(F73*0.187*10^-3)) | J73: =IFERROR(F73/$Q$4,"") | L73: t | N73: =IF(K73=0,"",F73/K73) | O73: =IF(L73=0," ",(CONCATENATE($F$45," / ",L73))) -> kWh / t
B74: 1.2.2 | D74: ARIA COMPRESSA | G74: =IF(F74=0,"",(F74*0.187*10^-3)) | J74: =IFERROR(F74/$Q$4,"") | L74: Nmc | N74: =IF(K74=0,"",F74/K74) | O74: =IF(L74=0," ",(CONCATENATE($F$45," / ",L74))) -> kWh / Nmc
B75: 1.2.3 | D75: POMPAGGIO | G75: =IF(F75=0,"",(F75*0.187*10^-3)) | J75: =IFERROR(F75/$Q$4,"") | L75: mc | N75: =IF(K75=0,"",F75/K75) | O75: =IF(L75=0," ",(CONCATENATE($F$45," / ",L75))) -> kWh / mc
B76: 1.2.4 | D76: ASPIRAZIONI E DEPURAZIONI | G76: =IF(F76=0,"",(F76*0.187*10^-3)) | J76: =IFERROR(F76/$Q$4,"") | L76: t | N76: =IF(K76=0,"",F76/K76) | O76: =IF(L76=0," ",(CONCATENATE($F$45," / ",L76))) -> kWh / t
B77: 1.2.5 | D77: ALTRO | G77: =IF(F77=0,"",(F77*0.187*10^-3)) | J77: =IFERROR(F77/$Q$4,"") | N77: =IF(K77=0,"",F77/K77) | O77: =IF(L77=0," ",(CONCATENATE($F$45," / ",L77)))
B78: 1.2.6 | D78: ALTRO | G78: =IF(F78=0,"",(F78*0.187*10^-3)) | J78: =IFERROR(F78/$Q$4,"") | N78: =IF(K78=0,"",F78/K78) | O78: =IF(L78=0," ",(CONCATENATE($F$45," / ",L78)))
B79: 1.2.7 | D79: ALTRO | G79: =IF(F79=0,"",(F79*0.187*10^-3)) | J79: =IFERROR(F79/$Q$4,"") | N79: =IF(K79=0,"",F79/K79) | O79: =IF(L79=0," ",(CONCATENATE($F$45," / ",L79)))
A81: LC | B81: 1.3 | C81: SERVIZI GENERALI | F81: =SUM(F82:F87) -> 0 | G81: =IF(F81=0,"",(F81*0.187*10^-3)) | H81: Monitoraggio | I81: =IFERROR(SUM('Dati menù a tendina'!AN37:AN42)/Rendicontazione!F81,0) -> 0 | J81: =IFERROR(F81/$Q$4,"") | K81: valore | L81: u.m. | M81: tipo misura | N81: valore | O81: u.m.
A82: LD | B82: 1.3.1 | C82: SERVIZI GENERALI | D82: ILLUMINAZIONE | G82: =IF(F82=0,"",(F82*0.187*10^-3)) | J82: =IFERROR(F82/$Q$4,"") | K82: =W21 -> 0 | L82: m2 | N82: =IF(K82=0,"",F82/K82) | O82: =IF(L82=0," ",(CONCATENATE($F$45," / ",L82))) -> kWh / m2
B83: 1.3.2 | D83: UFFICI E LABORATORI | G83: =IF(F83=0,"",(F83*0.187*10^-3)) | J83: =IFERROR(F83/$Q$4,"") | K83: =W19 -> 0 | L83: m2 | N83: =IF(K83=0,"",F83/K83) | O83: =IF(L83=0," ",(CONCATENATE($F$45," / ",L83))) -> kWh / m2
B84: 1.3.3 | D84: ACQUA CALDA SANITARIA | G84: =IF(F84=0,"",(F84*0.187*10^-3)) | J84: =IFERROR(F84/$Q$4,"") | K84: =$W$22 -> 0 | L84: personale | N84: =IF(K84=0,"",F84/K84) | O84: =IF(L84=0," ",(CONCATENATE($F$45," / ",L84))) -> kWh / personale
B85: 1.3.4 | D85: RISCALDAMENTO/CLIMATIZZAZIONE | G85: =IF(F85=0,"",(F85*0.187*10^-3)) | J85: =IFERROR(F85/$Q$4,"") | K85: =W20 -> 0 | L85: m2 | N85: =IF(K85=0,"",F85/K85) | O85: =IF(L85=0," ",(CONCATENATE($F$45," / ",L85))) -> kWh / m2
B86: 1.3.5 | D86: ALTRO | G86: =IF(F86=0,"",(F86*0.187*10^-3)) | N86: =IF(K86=0,"",F86/K86)
B87: 1.3.6 | D87: ALTRO | G87: =IF(F87=0,"",(F87*0.187*10^-3)) | J87: =IFERROR(F87/$Q$4,"") | N87: =IF(K87=0,"",F87/K87) | O87: =IF(L87=0," ",(CONCATENATE($F$45," / ",L87)))
A90: GAS NATURALE | F90: CONSUMO | G90: TEP ING. | H90: Ipg
F91: Sm3 | G91: tep | H91: tipo misura | I91: percentuale di monitoraggio | J91: =CONCATENATE(F91," / ",$R$4) -> Sm3 / t | K91: Consumi monitorati/ calcolati | L91: Altro | M91: % copertura consumi | N91: =IF(SUM(F96:F110,F113:F118,F121:F125)>0.95*F92,"Copertura del 95% dei consumi raggiunta","E' necessario dettagliare maggiormente la suddivisione dei consumi") -> E' necessario dettagliare maggiormente la suddivisione dei consumi
A92: LB | B92: j=2 | C92: GAS NATURALE | F92: =J8-K33+L40+L41 -> 0 | G92: =F92*0.836*10^-3 -> 0 | I92: =IFERROR((F95*I95+F112*I112+F120*I120)/F92,0) -> 0 | J92: =IFERROR(F92/$Q$4,"") | K92: =F95+F112+F120 -> 0 | L92: =F92-K92 -> 0 | M92: =IFERROR(K92/F92,0) -> 0
F94: CONSUMO | G94: TEP ING. | H94: Ipg | K94: D.s. | M94: Ips
A95: LC | B95: 2.1 | C95: ATTIVITA' PRINCIPALI | F95: =SUM(F96:F110) -> 0 | G95: =IF(F95=0,"",(F95*0.836*10^-3)) | H95: Monitoraggio | I95: =IFERROR(SUM('Dati menù a tendina'!AN46:AN59)/Rendicontazione!F95,0%) -> 0 | J95: =IFERROR(F95/$Q$4,"") | K95: valore | L95: u.m. | M95: tipo misura | N95: valore | O95: u.m.
A96: LD | B96: 2.1.1 | C96: ATM | D96: ATOMIZZAZIONE | G96: =IF(F96=0,"",(F96*0.836*10^-3)) | J96: =IFERROR((F96+F97)/$Q$4,"") | K96: =$V$5 -> 0 | L96: t | M96: … | N96: =IF(AND(K96=0,F97=0),"",(F96+94)/K96) | O96: =IF(L96=0," ",(CONCATENATE($F$91," / ",L96))) -> Sm3 / t
B97: 2.1.2 | D97: QUOTAPARTE DA COGENERAZIONE | F97: =L40 -> 0 | G97: =IF(F97=0,"",(F97*0.836*10^-3)) | H97: Calcoli | I97: 0
B98: 2.1.3 | D98: ALTRO | G98: =IF(F98=0,"",(F98*0.836*10^-3)) | J98: =IFERROR(F98/$Q$4,"") | M98: … | N98: =IF(K98=0,"",F98/K98) | O98: =IF(L98=0," ",(CONCATENATE($F$91," / ",L98)))
B99: 2.1.4 | C99: PRODUZIONE | D99: ESSICAZIONE | G99: =IF(F99=0,"",(F99*0.836*10^-3)) | J99: =IFERROR((F100+F99)/$Q$4,"") | K99: =$V$16 -> 0 | L99: t | M99: … | N99: =IF(K99=0,"",(F99+F100)/K99) | O99: =IF(L99=0," ",(CONCATENATE($F$91," / ",L99))) -> Sm3 / t
B100: 2.1.5 | D100: QUOTAPARTE DA COGENERAZIONE ESS | F100: =L41 -> 0 | G100: =IF(F100=0,"",(F100*0.836*10^-3)) | H100: Calcoli | I100: 0
B101: 2.1.6 | D101: COTTURA | G101: =IF(F101=0,"",(F101*0.836*10^-3)) | H101: … | J101: =IFERROR(F101/$Q$4,"") | K101: =$V$16 -> 0 | L101: t | M101: … | N101: =IF(K101=0,"",F101/K101) | O101: =IF(L101=0," ",(CONCATENATE($F$91," / ",L101))) -> Sm3 / t
B102: 2.1.7 | D102: TERZO FUOCO | G102: =IF(F102=0,"",(F102*0.836*10^-3)) | J102: =IFERROR(F102/$Q$4,"") | M102: … | N102: =IF(K102=0,"",F102/K102) | O102: =IF(L102=0," ",(CONCATENATE($F$91," / ",L102)))
B103: 2.1.8 | D103: ALTRO | G103: =IF(F103=0,"",(F103*0.836*10^-3)) | H103: … | J103: =IFERROR(F103/$Q$4,"") | M103: … | N103: =IF(K103=0,"",F103/K103) | O103: =IF(L103=0," ",(CONCATENATE($F$91," / ",L103)))
B104: 2.1.9 | D104: ALTRO | G104: =IF(F104=0,"",(F104*0.836*10^-3)) | H104: … | J104: =IFERROR(F104/$Q$4,"") | M104: … | N104: =IF(K104=0,"",F104/K104) | O104: =IF(L104=0," ",(CONCATENATE($F$91," / ",L104)))
B105: 2.1.10 | C105: IMBALLAGGIO | D105: TERMORETRAZIONE | G105: =IF(F105=0,"",(F105*0.836*10^-3)) | H105: … | J105: =IFERROR(F105/$Q$4,"") | K105: =$V$16 -> 0 | L105: t | M105: … | N105: =IF(K105=0,"",F105/K105) | O105: =IF(L105=0," ",(CONCATENATE($F$91," / ",L105))) -> Sm3 / t
B106: 2.1.11 | D106: ALTRO | G106: =IF(F106=0,"",(F106*0.836*10^-3)) | J106: =IFERROR(F106/$Q$4,"") | M106: … | N106: =IF(K106=0,"",F106/K106) | O106: =IF(L106=0," ",(CONCATENATE($F$91," / ",L106)))
B107: 2.1.12 | D107: ALTRO | G107: =IF(F107=0,"",(F107*0.836*10^-3)) | H107: … | J107: =IFERROR(F107/$Q$4,"") | M107: … | N107: =IF(K107=0,"",F107/K107) | O107: =IF(L107=0," ",(CONCATENATE($F$91," / ",L107)))
B108: 2.1.13 | C108: ALTRO | D108: ALTRO | G108: =IF(F108=0,"",(F108*0.836*10^-3)) | H108: … | J108: =IFERROR(F108/$Q$4,"") | M108: … | N108: =IF(K108=0,"",F108/K108) | O108: =IF(L108=0," ",(CONCATENATE($F$91," / ",L108)))
B109: 2.1.14 | D109: ALTRO | G109: =IF(F109=0,"",(F109*0.836*10^-3)) | H109: … | J109: =IFERROR(F109/$Q$4,"") | M109: … | N109: =IF(K109=0,"",F109/K109) | O109: =IF(L109=0," ",(CONCATENATE($F$91," / ",L109)))
B110: 2.1.15 | D110: ALTRO | G110: =IF(F110=0,"",(F110*0.836*10^-3)) | H110: … | J110: =IFERROR(F110/$Q$4,"") | M110: … | N110: =IF(K110=0,"",F110/K110) | O110: =IF(L110=0," ",(CONCATENATE($F$91," / ",L110)))
A112: LC | B112: 2.2 | C112: SERVIZI AUSILIARI | F112: =SUM(F113:F118) -> 0 | G112: =IF(F112=0,"",(F112*0.836*10^-3)) | H112: Monitoraggio | I112: =IFERROR(SUM('Dati menù a tendina'!AN62:AN67)/Rendicontazione!F112,0%) -> 0 | J112: =IFERROR(F112/$Q$4,"") | K112: valore | L112: u.m. | M112: tipo misura | N112: valore | O112: u.m.
...

Sheet ATECO2007
A1: Tabella dei titoli a sei cifre della classificazione delle attività economiche Ateco 2007
A2: CODICE | B2: DESCRIZIONE | D2: APPARTENENZA | E2: SETTORE
A3: 23.31.00 | B3: Fabbricazione di piastrelle in ceramica per pavimenti e rivestimenti | C3: ok | D3: Industriale | E3: ceramica
A4: 23.32.00 | B4: Fabbricazione di mattoni, tegole ed altri prodotti per l'edilizia in terracotta | C4: ok | D4: Industriale | E4: ceramica
A5: 23.41.00 | B5: Fabbricazione di prodotti in ceramica per usi domestici e ornamentali | C5: ok | D5: Industriale | E5: ceramica
A6: 23.42.00 | B6: Fabbricazione di articoli sanitari in ceramica | C6: ok | D6: Industriale | E6: ceramica
A7: 23.43.00 | B7: Fabbricazione di isolatori e di pezzi isolanti in ceramica | C7: ok | D7: Industriale | E7: ceramica
A8: 23.44.00 | B8: Fabbricazione di altri prodotti in ceramica per uso tecnico e industriale | C8: ok | D8: Industriale | E8: ceramica
A9: 23.49.00 | B9: Fabbricazione di altri prodotti in ceramica | C9: ok | D9: Industriale | E9: ceramica

Sheet Dati menù a tendina
A1: Anno | Q1: … | R1: 0 | S1: 0.05 | T1: =S1+$S$1 -> 0.1 | U1: =T1+$S$1 -> 0.15 | V1: =U1+$S$1 -> 0.2 | W1: =V1+$S$1 -> 0.25 | X1: =W1+$S$1 -> 0.3 | Y1: =X1+$S$1 -> 0.35 | Z1: =Y1+$S$1 -> 0.4 | AA1: =Z1+$S$1 -> 0.45 | ... AL1: =AK1+$S$1 -> 1
A2: … | D2: =D3+1 -> 10 | E2: > 10.000 | G2: 0.85 | H2: 0.5 | I2: 0.2 | O2: 1 | P2: =Rendicontazione!H50 -> 0 | Q2: … | R2: =R$1*VLOOKUP($P2,$E$17:$F$22,2,FALSE) -> 0 | S2: =S$1*VLOOKUP($P2,$E$17:$F$22,2,FALSE) -> 0 | T2: =T$1*VLOOKUP($P2,$E$17:$F$22,2,FALSE) -> 0 | U2: =U$1*VLOOKUP($P2,$E$17:$F$22,2,FALSE) -> 0 | V2: =V$1*VLOOKUP($P2,$E$17:$F$22,2,FALSE) -> 0 | W2: =W$1*VLOOKUP($P2,$E$17:$F$22,2,FALSE) -> 0 | X2: =X$1*VLOOKUP($P2,$E$17:$F$22,2,FALSE) -> 0 | Y2: =Y$1*VLOOKUP($P2,$E$17:$F$22,2,FALSE) -> 0 | ... AL2: =AL$1*VLOOKUP($P2,$E$17:$F$22,2,FALSE) -> 0 | AN2: =Rendicontazione!F50*Rendicontazione!I50 -> 0
A3: 2017 | D3: =D4+1 -> 9 | E3: 8900 | F3: 10000 | G3: 0.8 | H3: 0.45 | I3: 0.2 | O3: 2 | P3: =Rendicontazione!H51 -> 0 | Q3: … | R3: =R$1*VLOOKUP($P3,$E$17:$F$22,2,FALSE) -> 0 | S3: =S$1*VLOOKUP($P3,$E$17:$F$22,2,FALSE) -> 0 | T3: =T$1*VLOOKUP($P3,$E$17:$F$22,2,FALSE) -> 0 | U3: =U$1*VLOOKUP($P3,$E$17:$F$22,2,FALSE) -> 0 | V3: =V$1*VLOOKUP($P3,$E$17:$F$22,2,FALSE) -> 0 | W3: =W$1*VLOOKUP($P3,$E$17:$F$22,2,FALSE) -> 0 | X3: =X$1*VLOOKUP($P3,$E$17:$F$22,2,FALSE) -> 0 | Y3: =Y$1*VLOOKUP($P3,$E$17:$F$22,2,FALSE) -> 0 | ... AL3: =AL$1*VLOOKUP($P3,$E$17:$F$22,2,FALSE) -> 0 | AN3: =Rendicontazione!F51*Rendicontazione!I51 -> 0
A4: 2018 | D4: =D5+1 -> 8 | E4: 7800 | F4: 8899 | G4: 0.75 | H4: 0.4 | I4: 0.2 | O4: 3 | P4: =Rendicontazione!H52 -> 0 | Q4: … | R4: =R$1*VLOOKUP($P4,$E$17:$F$22,2,FALSE) -> 0 | S4: =S$1*VLOOKUP($P4,$E$17:$F$22,2,FALSE) -> 0 | T4: =T$1*VLOOKUP($P4,$E$17:$F$22,2,FALSE) -> 0 | U4: =U$1*VLOOKUP($P4,$E$17:$F$22,2,FALSE) -> 0 | V4: =V$1*VLOOKUP($P4,$E$17:$F$22,2,FALSE) -> 0 | W4: =W$1*VLOOKUP($P4,$E$17:$F$22,2,FALSE) -> 0 | X4: =X$1*VLOOKUP($P4,$E$17:$F$22,2,FALSE) -> 0 | Y4: =Y$1*VLOOKUP($P4,$E$17:$F$22,2,FALSE) -> 0 | ... AL4: =AL$1*VLOOKUP($P4,$E$17:$F$22,2,FALSE) -> 0 | AN4: =Rendicontazione!F52*Rendicontazione!I52 -> 0
A5: 2019 | D5: =D6+1 -> 7 | E5: 6700 | F5: 7799 | G5: 0.7 | H5: 0.35 | I5: 0.2 | O5: 4 | P5: =Rendicontazione!H53 -> 0 | Q5: … | R5: =R$1*VLOOKUP($P5,$E$17:$F$22,2,FALSE) -> 0 | S5: =S$1*VLOOKUP($P5,$E$17:$F$22,2,FALSE) -> 0 | T5: =T$1*VLOOKUP($P5,$E$17:$F$22,2,FALSE) -> 0 | U5: =U$1*VLOOKUP($P5,$E$17:$F$22,2,FALSE) -> 0 | V5: =V$1*VLOOKUP($P5,$E$17:$F$22,2,FALSE) -> 0 | W5: =W$1*VLOOKUP($P5,$E$17:$F$22,2,FALSE) -> 0 | X5: =X$1*VLOOKUP($P5,$E$17:$F$22,2,FALSE) -> 0 | Y5: =Y$1*VLOOKUP($P5,$E$17:$F$22,2,FALSE) -> 0 | ... AL5: =AL$1*VLOOKUP($P5,$E$17:$F$22,2,FALSE) -> 0 | AN5: =Rendicontazione!F53*Rendicontazione!I53 -> 0
A6: 2020 | D6: =D7+1 -> 6 | E6: 5600 | F6: 6699 | G6: 0.65 | H6: 0.3 | I6: 0.2 | O6: 5 | P6: =Rendicontazione!H54 -> 0 | Q6: … | R6: =R$1*VLOOKUP($P6,$E$17:$F$22,2,FALSE) -> 0 | S6: =S$1*VLOOKUP($P6,$E$17:$F$22,2,FALSE) -> 0 | T6: =T$1*VLOOKUP($P6,$E$17:$F$22,2,FALSE) -> 0 | U6: =U$1*VLOOKUP($P6,$E$17:$F$22,2,FALSE) -> 0 | V6: =V$1*VLOOKUP($P6,$E$17:$F$22,2,FALSE) -> 0 | W6: =W$1*VLOOKUP($P6,$E$17:$F$22,2,FALSE) -> 0 | X6: =X$1*VLOOKUP($P6,$E$17:$F$22,2,FALSE) -> 0 | Y6: =Y$1*VLOOKUP($P6,$E$17:$F$22,2,FALSE) -> 0 | ... AL6: =AL$1*VLOOKUP($P6,$E$17:$F$22,2,FALSE) -> 0 | AN6: =Rendicontazione!F54*Rendicontazione!I54 -> 0
A7: 2021 | D7: =D8+1 -> 5 | E7: 4500 | F7: 5599 | G7: 0.6 | H7: 0.25 | I7: 0.1 | O7: 6 | P7: =Rendicontazione!H55 -> 0 | Q7: … | R7: =R$1*VLOOKUP($P7,$E$17:$F$22,2,FALSE) -> 0 | S7: =S$1*VLOOKUP($P7,$E$17:$F$22,2,FALSE) -> 0 | T7: =T$1*VLOOKUP($P7,$E$17:$F$22,2,FALSE) -> 0 | U7: =U$1*VLOOKUP($P7,$E$17:$F$22,2,FALSE) -> 0 | V7: =V$1*VLOOKUP($P7,$E$17:$F$22,2,FALSE) -> 0 | W7: =W$1*VLOOKUP($P7,$E$17:$F$22,2,FALSE) -> 0 | X7: =X$1*VLOOKUP($P7,$E$17:$F$22,2,FALSE) -> 0 | Y7: =Y$1*VLOOKUP($P7,$E$17:$F$22,2,FALSE) -> 0 | ... AL7: =AL$1*VLOOKUP($P7,$E$17:$F$22,2,FALSE) -> 0 | AN7: =Rendicontazione!F55*Rendicontazione!I55 -> 0
A8: 2022 | D8: =D9+1 -> 4 | E8: 3400 | F8: 4499 | G8: 0.55 | H8: 0.2 | I8: 0.1 | O8: 7 | P8: =Rendicontazione!H56 -> 0 | Q8: … | R8: =R$1*VLOOKUP($P8,$E$17:$F$22,2,FALSE) -> 0 | S8: =S$1*VLOOKUP($P8,$E$17:$F$22,2,FALSE) -> 0 | T8: =T$1*VLOOKUP($P8,$E$17:$F$22,2,FALSE) -> 0 | U8: =U$1*VLOOKUP($P8,$E$17:$F$22,2,FALSE) -> 0 | V8: =V$1*VLOOKUP($P8,$E$17:$F$22,2,FALSE) -> 0 | W8: =W$1*VLOOKUP($P8,$E$17:$F$22,2,FALSE) -> 0 | X8: =X$1*VLOOKUP($P8,$E$17:$F$22,2,FALSE) -> 0 | Y8: =Y$1*VLOOKUP($P8,$E$17:$F$22,2,FALSE) -> 0 | ... AL8: =AL$1*VLOOKUP($P8,$E$17:$F$22,2,FALSE) -> 0 | AN8: =Rendicontazione!F56*Rendicontazione!I56 -> 0
A9: 2023 | D9: =D10+1 -> 3 | E9: 2300 | F9: 3399 | G9: 0.5 | H9: 0.15 | I9: 0.1 | O9: 8 | P9: =Rendicontazione!H57 -> 0 | Q9: … | R9: =R$1*VLOOKUP($P9,$E$17:$F$22,2,FALSE) -> 0 | S9: =S$1*VLOOKUP($P9,$E$17:$F$22,2,FALSE) -> 0 | T9: =T$1*VLOOKUP($P9,$E$17:$F$22,2,FALSE) -> 0 | U9: =U$1*VLOOKUP($P9,$E$17:$F$22,2,FALSE) -> 0 | V9: =V$1*VLOOKUP($P9,$E$17:$F$22,2,FALSE) -> 0 | W9: =W$1*VLOOKUP($P9,$E$17:$F$22,2,FALSE) -> 0 | X9: =X$1*VLOOKUP($P9,$E$17:$F$22,2,FALSE) -> 0 | Y9: =Y$1*VLOOKUP($P9,$E$17:$F$22,2,FALSE) -> 0 | ... AL9: =AL$1*VLOOKUP($P9,$E$17:$F$22,2,FALSE) -> 0 | AN9: =Rendicontazione!F57*Rendicontazione!I57 -> 0
A10: 2024 | D10: =D11+1 -> 2 | E10: 1200 | F10: 2299 | G10: 0.45 | H10: 0.1 | I10: 0.05 | O10: 9 | P10: =Rendicontazione!H58 -> 0 | Q10: … | R10: =R$1*VLOOKUP($P10,$E$17:$F$22,2,FALSE) -> 0 | S10: =S$1*VLOOKUP($P10,$E$17:$F$22,2,FALSE) -> 0 | T10: =T$1*VLOOKUP($P10,$E$17:$F$22,2,FALSE) -> 0 | U10: =U$1*VLOOKUP($P10,$E$17:$F$22,2,FALSE) -> 0 | V10: =V$1*VLOOKUP($P10,$E$17:$F$22,2,FALSE) -> 0 | W10: =W$1*VLOOKUP($P10,$E$17:$F$22,2,FALSE) -> 0 | X10: =X$1*VLOOKUP($P10,$E$17:$F$22,2,FALSE) -> 0 | Y10: =Y$1*VLOOKUP($P10,$E$17:$F$22,2,FALSE) -> 0 | ... AL10: =AL$1*VLOOKUP($P10,$E$17:$F$22,2,FALSE) -> 0 | AN10: =Rendicontazione!F58*Rendicontazione!I58 -> 0
A11: 2025 | D11: 1 | E11: 100 | F11: 1199 | G11: 0.4 | H11: 0.05 | I11: 0.05 | O11: 10 | P11: =Rendicontazione!H59 -> 0 | Q11: … | R11: =R$1*VLOOKUP($P11,$E$17:$F$22,2,FALSE) -> 0 | S11: =S$1*VLOOKUP($P11,$E$17:$F$22,2,FALSE) -> 0 | T11: =T$1*VLOOKUP($P11,$E$17:$F$22,2,FALSE) -> 0 | U11: =U$1*VLOOKUP($P11,$E$17:$F$22,2,FALSE) -> 0 | V11: =V$1*VLOOKUP($P11,$E$17:$F$22,2,FALSE) -> 0 | W11: =W$1*VLOOKUP($P11,$E$17:$F$22,2,FALSE) -> 0 | X11: =X$1*VLOOKUP($P11,$E$17:$F$22,2,FALSE) -> 0 | Y11: =Y$1*VLOOKUP($P11,$E$17:$F$22,2,FALSE) -> 0 | ... AL11: =AL$1*VLOOKUP($P11,$E$17:$F$22,2,FALSE) -> 0 | AN11: =Rendicontazione!F59*Rendicontazione!I59 -> 0
A12: 2026 | D12: 0 | G12: non soggetto a monitoraggio | H12: non soggetto a monitoraggio | I12: non soggetto a monitoraggio | O12: 11 | P12: =Rendicontazione!H60 -> 0 | Q12: … | R12: =R$1*VLOOKUP($P12,$E$17:$F$22,2,FALSE) -> 0 | S12: =S$1*VLOOKUP($P12,$E$17:$F$22,2,FALSE) -> 0 | T12: =T$1*VLOOKUP($P12,$E$17:$F$22,2,FALSE) -> 0 | U12: =U$1*VLOOKUP($P12,$E$17:$F$22,2,FALSE) -> 0 | V12: =V$1*VLOOKUP($P12,$E$17:$F$22,2,FALSE) -> 0 | W12: =W$1*VLOOKUP($P12,$E$17:$F$22,2,FALSE) -> 0 | X12: =X$1*VLOOKUP($P12,$E$17:$F$22,2,FALSE) -> 0 | Y12: =Y$1*VLOOKUP($P12,$E$17:$F$22,2,FALSE) -> 0 | ... AL12: =AL$1*VLOOKUP($P12,$E$17:$F$22,2,FALSE) -> 0 | AN12: =Rendicontazione!F60*Rendicontazione!I60 -> 0
A13: 2027 | O13: 12 | P13: =Rendicontazione!H61 -> 0 | Q13: … | R13: =R$1*VLOOKUP($P13,$E$17:$F$22,2,FALSE) -> 0 | S13: =S$1*VLOOKUP($P13,$E$17:$F$22,2,FALSE) -> 0 | T13: =T$1*VLOOKUP($P13,$E$17:$F$22,2,FALSE) -> 0 | U13: =U$1*VLOOKUP($P13,$E$17:$F$22,2,FALSE) -> 0 | V13: =V$1*VLOOKUP($P13,$E$17:$F$22,2,FALSE) -> 0 | W13: =W$1*VLOOKUP($P13,$E$17:$F$22,2,FALSE) -> 0 | X13: =X$1*VLOOKUP($P13,$E$17:$F$22,2,FALSE) -> 0 | Y13: =Y$1*VLOOKUP($P13,$E$17:$F$22,2,FALSE) -> 0 | ... AL13: =AL$1*VLOOKUP($P13,$E$17:$F$22,2,FALSE) -> 0 | AN13: =Rendicontazione!F61*Rendicontazione!I61 -> 0
A14: 2028 | E14: uso per controllo fasce mon | O14: 13 | P14: =Rendicontazione!H62 -> 0 | Q14: … | R14: =R$1*VLOOKUP($P14,$E$17:$F$22,2,FALSE) -> 0 | S14: =S$1*VLOOKUP($P14,$E$17:$F$22,2,FALSE) -> 0 | T14: =T$1*VLOOKUP($P14,$E$17:$F$22,2,FALSE) -> 0 | U14: =U$1*VLOOKUP($P14,$E$17:$F$22,2,FALSE) -> 0 | V14: =V$1*VLOOKUP($P14,$E$17:$F$22,2,FALSE) -> 0 | W14: =W$1*VLOOKUP($P14,$E$17:$F$22,2,FALSE) -> 0 | X14: =X$1*VLOOKUP($P14,$E$17:$F$22,2,FALSE) -> 0 | Y14: =Y$1*VLOOKUP($P14,$E$17:$F$22,2,FALSE) -> 0 | ... AL14: =AL$1*VLOOKUP($P14,$E$17:$F$22,2,FALSE) -> 0 | AN14: =Rendicontazione!F62*Rendicontazione!I62 -> 0
E15: =INT((Rendicontazione!G27-100)/1100)+1 -> 0 | F15: =IF(AND(E15>=1,E15<10),E15,IF(E15>=10,10,0)) -> 0 | O15: 14 | P15: =Rendicontazione!H63 -> 0 | Q15: … | R15: =R$1*VLOOKUP($P15,$E$17:$F$22,2,FALSE) -> 0 | S15: =S$1*VLOOKUP($P15,$E$17:$F$22,2,FALSE) -> 0 | T15: =T$1*VLOOKUP($P15,$E$17:$F$22,2,FALSE) -> 0 | U15: =U$1*VLOOKUP($P15,$E$17:$F$22,2,FALSE) -> 0 | V15: =V$1*VLOOKUP($P15,$E$17:$F$22,2,FALSE) -> 0 | W15: =W$1*VLOOKUP($P15,$E$17:$F$22,2,FALSE) -> 0 | X15: =X$1*VLOOKUP($P15,$E$17:$F$22,2,FALSE) -> 0 | Y15: =Y$1*VLOOKUP($P15,$E$17:$F$22,2,FALSE) -> 0 | ... AL15: =AL$1*VLOOKUP($P15,$E$17:$F$22,2,FALSE) -> 0 | AN15: =Rendicontazione!F63*Rendicontazione!I63 -> 0
O16: 15 | P16: =Rendicontazione!H64 -> 0 | Q16: … | R16: =R$1*VLOOKUP($P16,$E$17:$F$22,2,FALSE) -> 0 | S16: =S$1*VLOOKUP($P16,$E$17:$F$22,2,FALSE) -> 0 | T16: =T$1*VLOOKUP($P16,$E$17:$F$22,2,FALSE) -> 0 | U16: =U$1*VLOOKUP($P16,$E$17:$F$22,2,FALSE) -> 0 | V16: =V$1*VLOOKUP($P16,$E$17:$F$22,2,FALSE) -> 0 | W16: =W$1*VLOOKUP($P16,$E$17:$F$22,2,FALSE) -> 0 | X16: =X$1*VLOOKUP($P16,$E$17:$F$22,2,FALSE) -> 0 | Y16: =Y$1*VLOOKUP($P16,$E$17:$F$22,2,FALSE) -> 0 | ... AL16: =AL$1*VLOOKUP($P16,$E$17:$F$22,2,FALSE) -> 0 | AN16: =Rendicontazione!F64*Rendicontazione!I64 -> 0
E17: 0 | F17: 0 | O17: 16 | P17: =Rendicontazione!H65 -> 0 | Q17: … | R17: =R$1*VLOOKUP($P17,$E$17:$F$22,2,FALSE) -> 0 | S17: =S$1*VLOOKUP($P17,$E$17:$F$22,2,FALSE) -> 0 | T17: =T$1*VLOOKUP($P17,$E$17:$F$22,2,FALSE) -> 0 | U17: =U$1*VLOOKUP($P17,$E$17:$F$22,2,FALSE) -> 0 | V17: =V$1*VLOOKUP($P17,$E$17:$F$22,2,FALSE) -> 0 | W17: =W$1*VLOOKUP($P17,$E$17:$F$22,2,FALSE) -> 0 | X17: =X$1*VLOOKUP($P17,$E$17:$F$22,2,FALSE) -> 0 | Y17: =Y$1*VLOOKUP($P17,$E$17:$F$22,2,FALSE) -> 0 | ... AL17: =AL$1*VLOOKUP($P17,$E$17:$F$22,2,FALSE) -> 0 | AN17: =Rendicontazione!F65*Rendicontazione!I65 -> 0
A18: 0 | E18: … | F18: 0 | I18: … | O18: 17 | P18: =Rendicontazione!H66 -> 0 | Q18: … | R18: =R$1*VLOOKUP($P18,$E$17:$F$22,2,FALSE) -> 0 | S18: =S$1*VLOOKUP($P18,$E$17:$F$22,2,FALSE) -> 0 | T18: =T$1*VLOOKUP($P18,$E$17:$F$22,2,FALSE) -> 0 | U18: =U$1*VLOOKUP($P18,$E$17:$F$22,2,FALSE) -> 0 | V18: =V$1*VLOOKUP($P18,$E$17:$F$22,2,FALSE) -> 0 | W18: =W$1*VLOOKUP($P18,$E$17:$F$22,2,FALSE) -> 0 | X18: =X$1*VLOOKUP($P18,$E$17:$F$22,2,FALSE) -> 0 | Y18: =Y$1*VLOOKUP($P18,$E$17:$F$22,2,FALSE) -> 0 | ... AL18: =AL$1*VLOOKUP($P18,$E$17:$F$22,2,FALSE) -> 0 | AN18: =Rendicontazione!F66*Rendicontazione!I66 -> 0
A19: 0.2 | E19: Installazioni fisse di strumenti misura | F19: 1 | I19: Misurato | O19: 18 | P19: =Rendicontazione!H67 -> 0 | Q19: … | R19: =R$1*VLOOKUP($P19,$E$17:$F$22,2,FALSE) -> 0 | S19: =S$1*VLOOKUP($P19,$E$17:$F$22,2,FALSE) -> 0 | T19: =T$1*VLOOKUP($P19,$E$17:$F$22,2,FALSE) -> 0 | U19: =U$1*VLOOKUP($P19,$E$17:$F$22,2,FALSE) -> 0 | V19: =V$1*VLOOKUP($P19,$E$17:$F$22,2,FALSE) -> 0 | W19: =W$1*VLOOKUP($P19,$E$17:$F$22,2,FALSE) -> 0 | X19: =X$1*VLOOKUP($P19,$E$17:$F$22,2,FALSE) -> 0 | Y19: =Y$1*VLOOKUP($P19,$E$17:$F$22,2,FALSE) -> 0 | ... AL19: =AL$1*VLOOKUP($P19,$E$17:$F$22,2,FALSE) -> 0 | AN19: =Rendicontazione!F67*Rendicontazione!I67 -> 0
A20: 0.4 | E20: Misure indirette (campionamenti, campagne di misura, ecc.) | F20: 1 | I20: Stimata | O20: 19 | P20: =Rendicontazione!H68 -> 0 | Q20: … | R20: =R$1*VLOOKUP($P20,$E$17:$F$22,2,FALSE) -> 0 | S20: =S$1*VLOOKUP($P20,$E$17:$F$22,2,FALSE) -> 0 | T20: =T$1*VLOOKUP($P20,$E$17:$F$22,2,FALSE) -> 0 | U20: =U$1*VLOOKUP($P20,$E$17:$F$22,2,FALSE) -> 0 | V20: =V$1*VLOOKUP($P20,$E$17:$F$22,2,FALSE) -> 0 | W20: =W$1*VLOOKUP($P20,$E$17:$F$22,2,FALSE) -> 0 | X20: =X$1*VLOOKUP($P20,$E$17:$F$22,2,FALSE) -> 0 | Y20: =Y$1*VLOOKUP($P20,$E$17:$F$22,2,FALSE) -> 0 | ... AL20: =AL$1*VLOOKUP($P20,$E$17:$F$22,2,FALSE) -> 0 | AN20: =Rendicontazione!F68*Rendicontazione!I68 -> 0
A21: 0.6 | E21: Strumenti + misure indirette | F21: 1 | O21: 20 | P21: =Rendicontazione!H69 -> 0 | Q21: … | R21: =R$1*VLOOKUP($P21,$E$17:$F$22,2,FALSE) -> 0 | S21: =S$1*VLOOKUP($P21,$E$17:$F$22,2,FALSE) -> 0 | T21: =T$1*VLOOKUP($P21,$E$17:$F$22,2,FALSE) -> 0 | U21: =U$1*VLOOKUP($P21,$E$17:$F$22,2,FALSE) -> 0 | V21: =V$1*VLOOKUP($P21,$E$17:$F$22,2,FALSE) -> 0 | W21: =W$1*VLOOKUP($P21,$E$17:$F$22,2,FALSE) -> 0 | X21: =X$1*VLOOKUP($P21,$E$17:$F$22,2,FALSE) -> 0 | Y21: =Y$1*VLOOKUP($P21,$E$17:$F$22,2,FALSE) -> 0 | ... AL21: =AL$1*VLOOKUP($P21,$E$17:$F$22,2,FALSE) -> 0 | AN21: =Rendicontazione!F69*Rendicontazione!I69 -> 0
A22: 0.8 | E22: Calcoli | F22: 0 | O22: 21 | P22: =Rendicontazione!H70 -> 0 | Q22: … | R22: =R$1*VLOOKUP($P22,$E$17:$F$22,2,FALSE) -> 0 | S22: =S$1*VLOOKUP($P22,$E$17:$F$22,2,FALSE) -> 0 | T22: =T$1*VLOOKUP($P22,$E$17:$F$22,2,FALSE) -> 0 | U22: =U$1*VLOOKUP($P22,$E$17:$F$22,2,FALSE) -> 0 | V22: =V$1*VLOOKUP($P22,$E$17:$F$22,2,FALSE) -> 0 | W22: =W$1*VLOOKUP($P22,$E$17:$F$22,2,FALSE) -> 0 | X22: =X$1*VLOOKUP($P22,$E$17:$F$22,2,FALSE) -> 0 | Y22: =Y$1*VLOOKUP($P22,$E$17:$F$22,2,FALSE) -> 0 | ... AL22: =AL$1*VLOOKUP($P22,$E$17:$F$22,2,FALSE) -> 0 | AN22: =Rendicontazione!F70*Rendicontazione!I70 -> 0
A23: 1 | O23: 22 | P23: =Rendicontazione!H71 -> 0 | Q23: … | R23: =R$1*VLOOKUP($P23,$E$17:$F$22,2,FALSE) -> 0 | S23: =S$1*VLOOKUP($P23,$E$17:$F$22,2,FALSE) -> 0 | T23: =T$1*VLOOKUP($P23,$E$17:$F$22,2,FALSE) -> 0 | U23: =U$1*VLOOKUP($P23,$E$17:$F$22,2,FALSE) -> 0 | V23: =V$1*VLOOKUP($P23,$E$17:$F$22,2,FALSE) -> 0 | W23: =W$1*VLOOKUP($P23,$E$17:$F$22,2,FALSE) -> 0 | X23: =X$1*VLOOKUP($P23,$E$17:$F$22,2,FALSE) -> 0 | Y23: =Y$1*VLOOKUP($P23,$E$17:$F$22,2,FALSE) -> 0 | ... AL23: =AL$1*VLOOKUP($P23,$E$17:$F$22,2,FALSE) -> 0 | AN23: =Rendicontazione!F71*Rendicontazione!I71 -> 0
E24: Cogenerazione
E25: Motore a combustione Interna | F25: 0.75
E26: Turbina a gas | F26: 0.75 | O26: 1 | P26: =Rendicontazione!H73 -> 0 | Q26: … | R26: =R$1*VLOOKUP($P26,$E$17:$F$22,2,FALSE) -> 0 | S26: =S$1*VLOOKUP($P26,$E$17:$F$22,2,FALSE) -> 0 | T26: =T$1*VLOOKUP($P26,$E$17:$F$22,2,FALSE) -> 0 | U26: =U$1*VLOOKUP($P26,$E$17:$F$22,2,FALSE) -> 0 | V26: =V$1*VLOOKUP($P26,$E$17:$F$22,2,FALSE) -> 0 | W26: =W$1*VLOOKUP($P26,$E$17:$F$22,2,FALSE) -> 0 | X26: =X$1*VLOOKUP($P26,$E$17:$F$22,2,FALSE) -> 0 | Y26: =Y$1*VLOOKUP($P26,$E$17:$F$22,2,FALSE) -> 0 | ... AL26: =AL$1*VLOOKUP($P26,$E$17:$F$22,2,FALSE) -> 0 | AN26: =Rendicontazione!F73*Rendicontazione!I73 -> 0
O27: 2 | P27: =Rendicontazione!H74 -> 0 | Q27: … | R27: =R$1*VLOOKUP($P27,$E$17:$F$22,2,FALSE) -> 0 | S27: =S$1*VLOOKUP($P27,$E$17:$F$22,2,FALSE) -> 0 | T27: =T$1*VLOOKUP($P27,$E$17:$F$22,2,FALSE) -> 0 | U27: =U$1*VLOOKUP($P27,$E$17:$F$22,2,FALSE) -> 0 | V27: =V$1*VLOOKUP($P27,$E$17:$F$22,2,FALSE) -> 0 | W27: =W$1*VLOOKUP($P27,$E$17:$F$22,2,FALSE) -> 0 | X27: =X$1*VLOOKUP($P27,$E$17:$F$22,2,FALSE) -> 0 | Y27: =Y$1*VLOOKUP($P27,$E$17:$F$22,2,FALSE) -> 0 | ... AL27: =AL$1*VLOOKUP($P27,$E$17:$F$22,2,FALSE) -> 0 | AN27: =Rendicontazione!F74*Rendicontazione!I74 -> 0
I28: 0.75 | O28: 3 | P28: =Rendicontazione!H75 -> 0 | Q28: … | R28: =R$1*VLOOKUP($P28,$E$17:$F$22,2,FALSE) -> 0 | S28: =S$1*VLOOKUP($P28,$E$17:$F$22,2,FALSE) -> 0 | T28: =T$1*VLOOKUP($P28,$E$17:$F$22,2,FALSE) -> 0 | U28: =U$1*VLOOKUP($P28,$E$17:$F$22,2,FALSE) -> 0 | V28: =V$1*VLOOKUP($P28,$E$17:$F$22,2,FALSE) -> 0 | W28: =W$1*VLOOKUP($P28,$E$17:$F$22,2,FALSE) -> 0 | X28: =X$1*VLOOKUP($P28,$E$17:$F$22,2,FALSE) -> 0 | Y28: =Y$1*VLOOKUP($P28,$E$17:$F$22,2,FALSE) -> 0 | ... AL28: =AL$1*VLOOKUP($P28,$E$17:$F$22,2,FALSE) -> 0 | AN28: =Rendicontazione!F75*Rendicontazione!I75 -> 0
E29: Potenza elettrica installata | G29: kW | H29: =Rendicontazione!K32 -> 0 | O29: 4 | P29: =Rendicontazione!H76 -> 0 | Q29: … | R29: =R$1*VLOOKUP($P29,$E$17:$F$22,2,FALSE) -> 0 | S29: =S$1*VLOOKUP($P29,$E$17:$F$22,2,FALSE) -> 0 | T29: =T$1*VLOOKUP($P29,$E$17:$F$22,2,FALSE) -> 0 | U29: =U$1*VLOOKUP($P29,$E$17:$F$22,2,FALSE) -> 0 | V29: =V$1*VLOOKUP($P29,$E$17:$F$22,2,FALSE) -> 0 | W29: =W$1*VLOOKUP($P29,$E$17:$F$22,2,FALSE) -> 0 | X29: =X$1*VLOOKUP($P29,$E$17:$F$22,2,FALSE) -> 0 | Y29: =Y$1*VLOOKUP($P29,$E$17:$F$22,2,FALSE) -> 0 | ... AL29: =AL$1*VLOOKUP($P29,$E$17:$F$22,2,FALSE) -> 0 | AN29: =Rendicontazione!F76*Rendicontazione!I76 -> 0
E30: Gas naturale Congenerazione | G30: Sm3 | H30: =Rendicontazione!K33 -> 0 | O30: 5 | P30: =Rendicontazione!H77 -> 0 | Q30: … | R30: =R$1*VLOOKUP($P30,$E$17:$F$22,2,FALSE) -> 0 | S30: =S$1*VLOOKUP($P30,$E$17:$F$22,2,FALSE) -> 0 | T30: =T$1*VLOOKUP($P30,$E$17:$F$22,2,FALSE) -> 0 | U30: =U$1*VLOOKUP($P30,$E$17:$F$22,2,FALSE) -> 0 | V30: =V$1*VLOOKUP($P30,$E$17:$F$22,2,FALSE) -> 0 | W30: =W$1*VLOOKUP($P30,$E$17:$F$22,2,FALSE) -> 0 | X30: =X$1*VLOOKUP($P30,$E$17:$F$22,2,FALSE) -> 0 | Y30: =Y$1*VLOOKUP($P30,$E$17:$F$22,2,FALSE) -> 0 | ... AL30: =AL$1*VLOOKUP($P30,$E$17:$F$22,2,FALSE) -> 0 | AN30: =Rendicontazione!F77*Rendicontazione!I77 -> 0
E31: produzione energia elettrica | G31: kWh | H31: =Rendicontazione!K34 -> 0 | I31: =IFERROR(H31/(H30*9.6),0) -> 0 | O31: 6 | P31: =Rendicontazione!H78 -> 0 | Q31: … | R31: =R$1*VLOOKUP($P31,$E$17:$F$22,2,FALSE) -> 0 | S31: =S$1*VLOOKUP($P31,$E$17:$F$22,2,FALSE) -> 0 | T31: =T$1*VLOOKUP($P31,$E$17:$F$22,2,FALSE) -> 0 | U31: =U$1*VLOOKUP($P31,$E$17:$F$22,2,FALSE) -> 0 | V31: =V$1*VLOOKUP($P31,$E$17:$F$22,2,FALSE) -> 0 | W31: =W$1*VLOOKUP($P31,$E$17:$F$22,2,FALSE) -> 0 | X31: =X$1*VLOOKUP($P31,$E$17:$F$22,2,FALSE) -> 0 | Y31: =Y$1*VLOOKUP($P31,$E$17:$F$22,2,FALSE) -> 0 | ... AL31: =AL$1*VLOOKUP($P31,$E$17:$F$22,2,FALSE) -> 0 | AN31: =Rendicontazione!F78*Rendicontazione!I78 -> 0
E32: energia elettrica autoconsumata | G32: Kwh | H32: =Rendicontazione!K35 -> 0 | O32: 7 | P32: =Rendicontazione!H79 -> 0 | Q32: … | R32: =R$1*VLOOKUP($P32,$E$17:$F$22,2,FALSE) -> 0 | S32: =S$1*VLOOKUP($P32,$E$17:$F$22,2,FALSE) -> 0 | T32: =T$1*VLOOKUP($P32,$E$17:$F$22,2,FALSE) -> 0 | U32: =U$1*VLOOKUP($P32,$E$17:$F$22,2,FALSE) -> 0 | V32: =V$1*VLOOKUP($P32,$E$17:$F$22,2,FALSE) -> 0 | W32: =W$1*VLOOKUP($P32,$E$17:$F$22,2,FALSE) -> 0 | X32: =X$1*VLOOKUP($P32,$E$17:$F$22,2,FALSE) -> 0 | Y32: =Y$1*VLOOKUP($P32,$E$17:$F$22,2,FALSE) -> 0 | ... AL32: =AL$1*VLOOKUP($P32,$E$17:$F$22,2,FALSE) -> 0 | AN32: =Rendicontazione!F79*Rendicontazione!I79 -> 0
E33: Energia elettrica venduta | G33: kWh | H33: =Rendicontazione!K36 -> 0
E34: Produzione altri usi termici (non essicazione) | G34: kWh | H34: =Rendicontazione!K38 -> 0 | I34: =IFERROR(H34/(H30*9.6),0) -> 0
E35: Utilizzo per essiccazione STIMATO | G35: Sm3 | H35: =H30*I35 -> 0 | I35: =IF(Rendicontazione!J31="NON Disponibile",IF(I28-I31-I34<=0,0,I28-I31-I34),IF(Rendicontazione!L31-I31-I34<=0,0,Rendicontazione!L31-I31-I34)) -> 0.75
E37: Recupero calore fumi per ATM | O37: 1 | P37: =Rendicontazione!H82 -> 0 | Q37: … | R37: =R$1*VLOOKUP($P37,$E$17:$F$22,2,FALSE) -> 0 | S37: =S$1*VLOOKUP($P37,$E$17:$F$22,2,FALSE) -> 0 | T37: =T$1*VLOOKUP($P37,$E$17:$F$22,2,FALSE) -> 0 | U37: =U$1*VLOOKUP($P37,$E$17:$F$22,2,FALSE) -> 0 | V37: =V$1*VLOOKUP($P37,$E$17:$F$22,2,FALSE) -> 0 | W37: =W$1*VLOOKUP($P37,$E$17:$F$22,2,FALSE) -> 0 | X37: =X$1*VLOOKUP($P37,$E$17:$F$22,2,FALSE) -> 0 | Y37: =Y$1*VLOOKUP($P37,$E$17:$F$22,2,FALSE) -> 0 | ... AL37: =AL$1*VLOOKUP($P37,$E$17:$F$22,2,FALSE) -> 0 | AN37: =Rendicontazione!F82*Rendicontazione!I82 -> 0
E38: Recupero calore fumi per ATM ed ESSICCAZIONE | O38: 2 | P38: =Rendicontazione!H83 -> 0 | Q38: … | R38: =R$1*VLOOKUP($P38,$E$17:$F$22,2,FALSE) -> 0 | S38: =S$1*VLOOKUP($P38,$E$17:$F$22,2,FALSE) -> 0 | T38: =T$1*VLOOKUP($P38,$E$17:$F$22,2,FALSE) -> 0 | U38: =U$1*VLOOKUP($P38,$E$17:$F$22,2,FALSE) -> 0 | V38: =V$1*VLOOKUP($P38,$E$17:$F$22,2,FALSE) -> 0 | W38: =W$1*VLOOKUP($P38,$E$17:$F$22,2,FALSE) -> 0 | X38: =X$1*VLOOKUP($P38,$E$17:$F$22,2,FALSE) -> 0 | Y38: =Y$1*VLOOKUP($P38,$E$17:$F$22,2,FALSE) -> 0 | ... AL38: =AL$1*VLOOKUP($P38,$E$17:$F$22,2,FALSE) -> 0 | AN38: =Rendicontazione!F83*Rendicontazione!I83 -> 0
E39: Recupero calore per produzione calore ACQUACALDA/VAPORE e fumi ATM | O39: 3 | P39: =Rendicontazione!H84 -> 0 | Q39: … | R39: =R$1*VLOOKUP($P39,$E$17:$F$22,2,FALSE) -> 0 | S39: =S$1*VLOOKUP($P39,$E$17:$F$22,2,FALSE) -> 0 | T39: =T$1*VLOOKUP($P39,$E$17:$F$22,2,FALSE) -> 0 | U39: =U$1*VLOOKUP($P39,$E$17:$F$22,2,FALSE) -> 0 | V39: =V$1*VLOOKUP($P39,$E$17:$F$22,2,FALSE) -> 0 | W39: =W$1*VLOOKUP($P39,$E$17:$F$22,2,FALSE) -> 0 | X39: =X$1*VLOOKUP($P39,$E$17:$F$22,2,FALSE) -> 0 | Y39: =Y$1*VLOOKUP($P39,$E$17:$F$22,2,FALSE) -> 0 | ... AL39: =AL$1*VLOOKUP($P39,$E$17:$F$22,2,FALSE) -> 0 | AN39: =Rendicontazione!F84*Rendicontazione!I84 -> 0
O40: 4 | P40: =Rendicontazione!H85 -> 0 | Q40: … | R40: =R$1*VLOOKUP($P40,$E$17:$F$22,2,FALSE) -> 0 | S40: =S$1*VLOOKUP($P40,$E$17:$F$22,2,FALSE) -> 0 | T40: =T$1*VLOOKUP($P40,$E$17:$F$22,2,FALSE) -> 0 | U40: =U$1*VLOOKUP($P40,$E$17:$F$22,2,FALSE) -> 0 | V40: =V$1*VLOOKUP($P40,$E$17:$F$22,2,FALSE) -> 0 | W40: =W$1*VLOOKUP($P40,$E$17:$F$22,2,FALSE) -> 0 | X40: =X$1*VLOOKUP($P40,$E$17:$F$22,2,FALSE) -> 0 | Y40: =Y$1*VLOOKUP($P40,$E$17:$F$22,2,FALSE) -> 0 | ... AL40: =AL$1*VLOOKUP($P40,$E$17:$F$22,2,FALSE) -> 0 | AN40: =Rendicontazione!F85*Rendicontazione!I85 -> 0
O41: 5 | P41: =Rendicontazione!H86 -> 0 | Q41: … | R41: =R$1*VLOOKUP($P41,$E$17:$F$22,2,FALSE) -> 0 | S41: =S$1*VLOOKUP($P41,$E$17:$F$22,2,FALSE) -> 0 | T41: =T$1*VLOOKUP($P41,$E$17:$F$22,2,FALSE) -> 0 | U41: =U$1*VLOOKUP($P41,$E$17:$F$22,2,FALSE) -> 0 | V41: =V$1*VLOOKUP($P41,$E$17:$F$22,2,FALSE) -> 0 | W41: =W$1*VLOOKUP($P41,$E$17:$F$22,2,FALSE) -> 0 | X41: =X$1*VLOOKUP($P41,$E$17:$F$22,2,FALSE) -> 0 | Y41: =Y$1*VLOOKUP($P41,$E$17:$F$22,2,FALSE) -> 0 | ... AL41: =AL$1*VLOOKUP($P41,$E$17:$F$22,2,FALSE) -> 0 | AN41: =Rendicontazione!F86*Rendicontazione!I86 -> 0
O42: 6 | P42: =Rendicontazione!H87 -> 0 | Q42: … | R42: =R$1*VLOOKUP($P42,$E$17:$F$22,2,FALSE) -> 0 | S42: =S$1*VLOOKUP($P42,$E$17:$F$22,2,FALSE) -> 0 | T42: =T$1*VLOOKUP($P42,$E$17:$F$22,2,FALSE) -> 0 | U42: =U$1*VLOOKUP($P42,$E$17:$F$22,2,FALSE) -> 0 | V42: =V$1*VLOOKUP($P42,$E$17:$F$22,2,FALSE) -> 0 | W42: =W$1*VLOOKUP($P42,$E$17:$F$22,2,FALSE) -> 0 | X42: =X$1*VLOOKUP($P42,$E$17:$F$22,2,FALSE) -> 0 | Y42: =Y$1*VLOOKUP($P42,$E$17:$F$22,2,FALSE) -> 0 | ... AL42: =AL$1*VLOOKUP($P42,$E$17:$F$22,2,FALSE) -> 0 | AN42: =Rendicontazione!F87*Rendicontazione!I87 -> 0
I43: … | K43: 0
E44: Energia Termica | H44: =E44 -> Energia Termica | I44: 860/0,9 x 10^-7 | K44: =860*10^(-7)/0.9 -> 9.5555556e-05 | L44: 3 | M44: kWh | N44: =Rendicontazione!J9 -> 0 | P44: GAS
E45: Energia frigorifera | H45: =E45 -> Energia frigorifera | I45: (1/ EER) x 0,187 x 10^-3 | J45: 3 | K45: =(1/J45)*0.187*10^(-3) -> 6.2333333e-05 | L45: 4 | M45: kWh | N45: =Rendicontazione!J10 -> 0 | Q45: … | R45: 0 | S45: 0.05 | T45: =S45+$S$1 -> 0.1 | U45: =T45+$S$1 -> 0.15 | V45: =U45+$S$1 -> 0.2 | W45: =V45+$S$1 -> 0.25 | X45: =W45+$S$1 -> 0.3 | Y45: =X45+$S$1 -> 0.35 | Z45: =Y45+$S$1 -> 0.4 | AA45: =Z45+$S$1 -> 0.45 | ... AL45: =AK45+$S$1 -> 1
E46: Biomassa | H46: =E46 -> Biomassa | I46: PCI (kcal/kg) x 10^-4 | J46: =Rendicontazione!N11 -> 0 | K46: =J46*10^-4 -> 0 | L46: 5 | M46: t | N46: =Rendicontazione!J11 -> 0 | O46: 1 | P46: =Rendicontazione!H96 -> 0 | Q46: … | R46: =R$45*VLOOKUP($P46,$E$17:$F$22,2,FALSE) -> 0 | S46: =S$45*VLOOKUP($P46,$E$17:$F$22,2,FALSE) -> 0 | T46: =T$45*VLOOKUP($P46,$E$17:$F$22,2,FALSE) -> 0 | U46: =U$45*VLOOKUP($P46,$E$17:$F$22,2,FALSE) -> 0 | V46: =V$45*VLOOKUP($P46,$E$17:$F$22,2,FALSE) -> 0 | W46: =W$45*VLOOKUP($P46,$E$17:$F$22,2,FALSE) -> 0 | X46: =X$45*VLOOKUP($P46,$E$17:$F$22,2,FALSE) -> 0 | Y46: =Y$45*VLOOKUP($P46,$E$17:$F$22,2,FALSE) -> 0 | ... AL46: =AL$45*VLOOKUP($P46,$E$17:$F$22,2,FALSE) -> 0 | AN46: =Rendicontazione!F96*Rendicontazione!I96 -> 0
E47: Olio combustib. | H47: =E47 -> Olio combustib. | I47: PCI (kcal/kg) x 10^-4 | J47: 9800 | K47: =J47*10^-4 -> 0.98 | L47: 6 | M47: t | N47: =Rendicontazione!J12 -> 0 | O47: 2 | P47: =Rendicontazione!H97 -> Calcoli | Q47: … | R47: =R$45*VLOOKUP($P47,$E$17:$F$22,2,FALSE) -> 0 | S47: =S$45*VLOOKUP($P47,$E$17:$F$22,2,FALSE) -> 0 | T47: =T$45*VLOOKUP($P47,$E$17:$F$22,2,FALSE) -> 0 | U47: =U$45*VLOOKUP($P47,$E$17:$F$22,2,FALSE) -> 0 | V47: =V$45*VLOOKUP($P47,$E$17:$F$22,2,FALSE) -> 0 | W47: =W$45*VLOOKUP($P47,$E$17:$F$22,2,FALSE) -> 0 | X47: =X$45*VLOOKUP($P47,$E$17:$F$22,2,FALSE) -> 0 | Y47: =Y$45*VLOOKUP($P47,$E$17:$F$22,2,FALSE) -> 0 | ... AL47: =AL$45*VLOOKUP($P47,$E$17:$F$22,2,FALSE) -> 0 | AN47: =Rendicontazione!F97*Rendicontazione!I97 -> 0
E48: GPL | H48: =E48 -> GPL | I48: PCI (kcal/kg) x 10^-4 | J48: 11000 | K48: =J48*10^-4 -> 1.1 | L48: 7 | M48: t | N48: =Rendicontazione!J13 -> 0 | O48: 3 | P48: =Rendicontazione!H98 -> 0 | Q48: … | R48: =R$45*VLOOKUP($P48,$E$17:$F$22,2,FALSE) -> 0 | S48: =S$45*VLOOKUP($P48,$E$17:$F$22,2,FALSE) -> 0 | T48: =T$45*VLOOKUP($P48,$E$17:$F$22,2,FALSE) -> 0 | U48: =U$45*VLOOKUP($P48,$E$17:$F$22,2,FALSE) -> 0 | V48: =V$45*VLOOKUP($P48,$E$17:$F$22,2,FALSE) -> 0 | W48: =W$45*VLOOKUP($P48,$E$17:$F$22,2,FALSE) -> 0 | X48: =X$45*VLOOKUP($P48,$E$17:$F$22,2,FALSE) -> 0 | Y48: =Y$45*VLOOKUP($P48,$E$17:$F$22,2,FALSE) -> 0 | ... AL48: =AL$45*VLOOKUP($P48,$E$17:$F$22,2,FALSE) -> 0 | AN48: =Rendicontazione!F98*Rendicontazione!I98 -> 0
E49: Gasolio | H49: =E49 -> Gasolio | I49: PCI (kcal/kg) x 10^-4 | J49: 10200 | K49: =J49*10^-4 -> 1.02 | L49: 8 | M49: t | N49: =Rendicontazione!J14 -> 0 | O49: 4 | P49: =Rendicontazione!H99 -> 0 | Q49: … | R49: =R$45*VLOOKUP($P49,$E$17:$F$22,2,FALSE) -> 0 | S49: =S$45*VLOOKUP($P49,$E$17:$F$22,2,FALSE) -> 0 | T49: =T$45*VLOOKUP($P49,$E$17:$F$22,2,FALSE) -> 0 | U49: =U$45*VLOOKUP($P49,$E$17:$F$22,2,FALSE) -> 0 | V49: =V$45*VLOOKUP($P49,$E$17:$F$22,2,FALSE) -> 0 | W49: =W$45*VLOOKUP($P49,$E$17:$F$22,2,FALSE) -> 0 | X49: =X$45*VLOOKUP($P49,$E$17:$F$22,2,FALSE) -> 0 | Y49: =Y$45*VLOOKUP($P49,$E$17:$F$22,2,FALSE) -> 0 | ... AL49: =AL$45*VLOOKUP($P49,$E$17:$F$22,2,FALSE) -> 0 | AN49: =Rendicontazione!F99*Rendicontazione!I99 -> 0
E50: Coke di petrolio | H50: =E50 -> Coke di petrolio | I50: PCI (kcal/kg) x 10^-4 | J50: 8300 | K50: =J50*10^-4 -> 0.83 | L50: 9 | M50: t | N50: =Rendicontazione!J15 -> 0 | O50: 5 | P50: =Rendicontazione!H101 -> … | Q50: … | R50: =R$45*VLOOKUP($P50,$E$17:$F$22,2,FALSE) -> 0 | S50: =S$45*VLOOKUP($P50,$E$17:$F$22,2,FALSE) -> 0 | T50: =T$45*VLOOKUP($P50,$E$17:$F$22,2,FALSE) -> 0 | U50: =U$45*VLOOKUP($P50,$E$17:$F$22,2,FALSE) -> 0 | V50: =V$45*VLOOKUP($P50,$E$17:$F$22,2,FALSE) -> 0 | W50: =W$45*VLOOKUP($P50,$E$17:$F$22,2,FALSE) -> 0 | X50: =X$45*VLOOKUP($P50,$E$17:$F$22,2,FALSE) -> 0 | Y50: =Y$45*VLOOKUP($P50,$E$17:$F$22,2,FALSE) -> 0 | ... AL50: =AL$45*VLOOKUP($P50,$E$17:$F$22,2,FALSE) -> 0 | AN50: =Rendicontazione!F100*Rendicontazione!I100 -> 0
E51: Altro_1: | F51: =IF(Rendicontazione!H16="","",Rendicontazione!H16) | H51: =CONCATENATE(E51," ",F51) -> Altro_1: | I51: 1 | K51: 1 | L51: 10 | M51: tep | N51: =Rendicontazione!J16 -> 0 | O51: 6 | P51: =Rendicontazione!H102 -> 0 | Q51: … | R51: =R$45*VLOOKUP($P51,$E$17:$F$22,2,FALSE) -> 0 | S51: =S$45*VLOOKUP($P51,$E$17:$F$22,2,FALSE) -> 0 | T51: =T$45*VLOOKUP($P51,$E$17:$F$22,2,FALSE) -> 0 | U51: =U$45*VLOOKUP($P51,$E$17:$F$22,2,FALSE) -> 0 | V51: =V$45*VLOOKUP($P51,$E$17:$F$22,2,FALSE) -> 0 | W51: =W$45*VLOOKUP($P51,$E$17:$F$22,2,FALSE) -> 0 | X51: =X$45*VLOOKUP($P51,$E$17:$F$22,2,FALSE) -> 0 | Y51: =Y$45*VLOOKUP($P51,$E$17:$F$22,2,FALSE) -> 0 | ... AL51: =AL$45*VLOOKUP($P51,$E$17:$F$22,2,FALSE) -> 0 | AN51: =Rendicontazione!F101*Rendicontazione!I101 -> 0
E52: Altro_2: | F52: =IF(Rendicontazione!H17="","",Rendicontazione!H17) | H52: =CONCATENATE(E52," ",F52) -> Altro_2: | I52: 1 | K52: 1 | L52: 11 | M52: tep | N52: =Rendicontazione!J17 -> 0 | O52: 7 | P52: =Rendicontazione!H103 -> … | Q52: … | R52: =R$45*VLOOKUP($P52,$E$17:$F$22,2,FALSE) -> 0 | S52: =S$45*VLOOKUP($P52,$E$17:$F$22,2,FALSE) -> 0 | T52: =T$45*VLOOKUP($P52,$E$17:$F$22,2,FALSE) -> 0 | U52: =U$45*VLOOKUP($P52,$E$17:$F$22,2,FALSE) -> 0 | V52: =V$45*VLOOKUP($P52,$E$17:$F$22,2,FALSE) -> 0 | W52: =W$45*VLOOKUP($P52,$E$17:$F$22,2,FALSE) -> 0 | X52: =X$45*VLOOKUP($P52,$E$17:$F$22,2,FALSE) -> 0 | Y52: =Y$45*VLOOKUP($P52,$E$17:$F$22,2,FALSE) -> 0 | ... AL52: =AL$45*VLOOKUP($P52,$E$17:$F$22,2,FALSE) -> 0 | AN52: =Rendicontazione!F102*Rendicontazione!I102 -> 0
O53: 8 | P53: =Rendicontazione!H104 -> … | Q53: … | R53: =R$45*VLOOKUP($P53,$E$17:$F$22,2,FALSE) -> 0 | S53: =S$45*VLOOKUP($P53,$E$17:$F$22,2,FALSE) -> 0 | T53: =T$45*VLOOKUP($P53,$E$17:$F$22,2,FALSE) -> 0 | U53: =U$45*VLOOKUP($P53,$E$17:$F$22,2,FALSE) -> 0 | V53: =V$45*VLOOKUP($P53,$E$17:$F$22,2,FALSE) -> 0 | W53: =W$45*VLOOKUP($P53,$E$17:$F$22,2,FALSE) -> 0 | X53: =X$45*VLOOKUP($P53,$E$17:$F$22,2,FALSE) -> 0 | Y53: =Y$45*VLOOKUP($P53,$E$17:$F$22,2,FALSE) -> 0 | ... AL53: =AL$45*VLOOKUP($P53,$E$17:$F$22,2,FALSE) -> 0 | AN53: =Rendicontazione!F103*Rendicontazione!I103 -> 0
O54: 9 | P54: =Rendicontazione!H105 -> … | Q54: … | R54: =R$45*VLOOKUP($P54,$E$17:$F$22,2,FALSE) -> 0 | S54: =S$45*VLOOKUP($P54,$E$17:$F$22,2,FALSE) -> 0 | T54: =T$45*VLOOKUP($P54,$E$17:$F$22,2,FALSE) -> 0 | U54: =U$45*VLOOKUP($P54,$E$17:$F$22,2,FALSE) -> 0 | V54: =V$45*VLOOKUP($P54,$E$17:$F$22,2,FALSE) -> 0 | W54: =W$45*VLOOKUP($P54,$E$17:$F$22,2,FALSE) -> 0 | X54: =X$45*VLOOKUP($P54,$E$17:$F$22,2,FALSE) -> 0 | Y54: =Y$45*VLOOKUP($P54,$E$17:$F$22,2,FALSE) -> 0 | ... AL54: =AL$45*VLOOKUP($P54,$E$17:$F$22,2,FALSE) -> 0 | AN54: =Rendicontazione!F104*Rendicontazione!I104 -> 0
O55: 10 | P55: =Rendicontazione!H106 -> 0 | Q55: … | R55: =R$45*VLOOKUP($P55,$E$17:$F$22,2,FALSE) -> 0 | S55: =S$45*VLOOKUP($P55,$E$17:$F$22,2,FALSE) -> 0 | T55: =T$45*VLOOKUP($P55,$E$17:$F$22,2,FALSE) -> 0 | U55: =U$45*VLOOKUP($P55,$E$17:$F$22,2,FALSE) -> 0 | V55: =V$45*VLOOKUP($P55,$E$17:$F$22,2,FALSE) -> 0 | W55: =W$45*VLOOKUP($P55,$E$17:$F$22,2,FALSE) -> 0 | X55: =X$45*VLOOKUP($P55,$E$17:$F$22,2,FALSE) -> 0 | Y55: =Y$45*VLOOKUP($P55,$E$17:$F$22,2,FALSE) -> 0 | ... AL55: =AL$45*VLOOKUP($P55,$E$17:$F$22,2,FALSE) -> 0 | AN55: =Rendicontazione!F105*Rendicontazione!I105 -> 0
O56: 11 | P56: =Rendicontazione!H107 -> … | Q56: … | R56: =R$45*VLOOKUP($P56,$E$17:$F$22,2,FALSE) -> 0 | S56: =S$45*VLOOKUP($P56,$E$17:$F$22,2,FALSE) -> 0 | T56: =T$45*VLOOKUP($P56,$E$17:$F$22,2,FALSE) -> 0 | U56: =U$45*VLOOKUP($P56,$E$17:$F$22,2,FALSE) -> 0 | V56: =V$45*VLOOKUP($P56,$E$17:$F$22,2,FALSE) -> 0 | W56: =W$45*VLOOKUP($P56,$E$17:$F$22,2,FALSE) -> 0 | X56: =X$45*VLOOKUP($P56,$E$17:$F$22,2,FALSE) -> 0 | Y56: =Y$45*VLOOKUP($P56,$E$17:$F$22,2,FALSE) -> 0 | ... AL56: =AL$45*VLOOKUP($P56,$E$17:$F$22,2,FALSE) -> 0 | AN56: =Rendicontazione!F106*Rendicontazione!I106 -> 0
O57: 12 | P57: =Rendicontazione!H108 -> … | Q57: … | R57: =R$45*VLOOKUP($P57,$E$17:$F$22,2,FALSE) -> 0 | S57: =S$45*VLOOKUP($P57,$E$17:$F$22,2,FALSE) -> 0 | T57: =T$45*VLOOKUP($P57,$E$17:$F$22,2,FALSE) -> 0 | U57: =U$45*VLOOKUP($P57,$E$17:$F$22,2,FALSE) -> 0 | V57: =V$45*VLOOKUP($P57,$E$17:$F$22,2,FALSE) -> 0 | W57: =W$45*VLOOKUP($P57,$E$17:$F$22,2,FALSE) -> 0 | X57: =X$45*VLOOKUP($P57,$E$17:$F$22,2,FALSE) -> 0 | Y57: =Y$45*VLOOKUP($P57,$E$17:$F$22,2,FALSE) -> 0 | ... AL57: =AL$45*VLOOKUP($P57,$E$17:$F$22,2,FALSE) -> 0 | AN57: =Rendicontazione!F107*Rendicontazione!I107 -> 0
O58: 13 | P58: =Rendicontazione!H109 -> … | Q58: … | R58: =R$45*VLOOKUP($P58,$E$17:$F$22,2,FALSE) -> 0 | S58: =S$45*VLOOKUP($P58,$E$17:$F$22,2,FALSE) -> 0 | T58: =T$45*VLOOKUP($P58,$E$17:$F$22,2,FALSE) -> 0 | U58: =U$45*VLOOKUP($P58,$E$17:$F$22,2,FALSE) -> 0 | V58: =V$45*VLOOKUP($P58,$E$17:$F$22,2,FALSE) -> 0 | W58: =W$45*VLOOKUP($P58,$E$17:$F$22,2,FALSE) -> 0 | X58: =X$45*VLOOKUP($P58,$E$17:$F$22,2,FALSE) -> 0 | Y58: =Y$45*VLOOKUP($P58,$E$17:$F$22,2,FALSE) -> 0 | ... AL58: =AL$45*VLOOKUP($P58,$E$17:$F$22,2,FALSE) -> 0 | AN58: =Rendicontazione!F108*Rendicontazione!I108 -> 0
O59: 14 | P59: =Rendicontazione!H110 -> … | Q59: … | R59: =R$45*VLOOKUP($P59,$E$17:$F$22,2,FALSE) -> 0 | S59: =S$45*VLOOKUP($P59,$E$17:$F$22,2,FALSE) -> 0 | T59: =T$45*VLOOKUP($P59,$E$17:$F$22,2,FALSE) -> 0 | U59: =U$45*VLOOKUP($P59,$E$17:$F$22,2,FALSE) -> 0 | V59: =V$45*VLOOKUP($P59,$E$17:$F$22,2,FALSE) -> 0 | W59: =W$45*VLOOKUP($P59,$E$17:$F$22,2,FALSE) -> 0 | X59: =X$45*VLOOKUP($P59,$E$17:$F$22,2,FALSE) -> 0 | Y59: =Y$45*VLOOKUP($P59,$E$17:$F$22,2,FALSE) -> 0 | ... AL59: =AL$45*VLOOKUP($P59,$E$17:$F$22,2,FALSE) -> 0 | AN59: =Rendicontazione!F109*Rendicontazione!I109 -> 0
O62: 1 | P62: =Rendicontazione!H113 -> 0 | Q62: … | R62: =R$45*VLOOKUP($P62,$E$17:$F$22,2,FALSE) -> 0 | S62: =S$45*VLOOKUP($P62,$E$17:$F$22,2,FALSE) -> 0 | T62: =T$45*VLOOKUP($P62,$E$17:$F$22,2,FALSE) -> 0 | U62: =U$45*VLOOKUP($P62,$E$17:$F$22,2,FALSE) -> 0 | V62: =V$45*VLOOKUP($P62,$E$17:$F$22,2,FALSE) -> 0 | W62: =W$45*VLOOKUP($P62,$E$17:$F$22,2,FALSE) -> 0 | X62: =X$45*VLOOKUP($P62,$E$17:$F$22,2,FALSE) -> 0 | Y62: =Y$45*VLOOKUP($P62,$E$17:$F$22,2,FALSE) -> 0 | ... AL62: =AL$45*VLOOKUP($P62,$E$17:$F$22,2,FALSE) -> 0 | AN62: =Rendicontazione!F113*Rendicontazione!I113 -> 0
O63: 2 | P63: =Rendicontazione!H114 -> … | Q63: … | R63: =R$45*VLOOKUP($P63,$E$17:$F$22,2,FALSE) -> 0 | S63: =S$45*VLOOKUP($P63,$E$17:$F$22,2,FALSE) -> 0 | T63: =T$45*VLOOKUP($P63,$E$17:$F$22,2,FALSE) -> 0 | U63: =U$45*VLOOKUP($P63,$E$17:$F$22,2,FALSE) -> 0 | V63: =V$45*VLOOKUP($P63,$E$17:$F$22,2,FALSE) -> 0 | W63: =W$45*VLOOKUP($P63,$E$17:$F$22,2,FALSE) -> 0 | X63: =X$45*VLOOKUP($P63,$E$17:$F$22,2,FALSE) -> 0 | Y63: =Y$45*VLOOKUP($P63,$E$17:$F$22,2,FALSE) -> 0 | ... AL63: =AL$45*VLOOKUP($P63,$E$17:$F$22,2,FALSE) -> 0 | AN63: =Rendicontazione!F114*Rendicontazione!I114 -> 0
O64: 3 | P64: =Rendicontazione!H115 -> … | Q64: … | R64: =R$45*VLOOKUP($P64,$E$17:$F$22,2,FALSE) -> 0 | S64: =S$45*VLOOKUP($P64,$E$17:$F$22,2,FALSE) -> 0 | T64: =T$45*VLOOKUP($P64,$E$17:$F$22,2,FALSE) -> 0 | U64: =U$45*VLOOKUP($P64,$E$17:$F$22,2,FALSE) -> 0 | V64: =V$45*VLOOKUP($P64,$E$17:$F$22,2,FALSE) -> 0 | W64: =W$45*VLOOKUP($P64,$E$17:$F$22,2,FALSE) -> 0 | X64: =X$45*VLOOKUP($P64,$E$17:$F$22,2,FALSE) -> 0 | Y64: =Y$45*VLOOKUP($P64,$E$17:$F$22,2,FALSE) -> 0 | ... AL64: =AL$45*VLOOKUP($P64,$E$17:$F$22,2,FALSE) -> 0 | AN64: =Rendicontazione!F115*Rendicontazione!I115 -> 0
O65: 4 | P65: =Rendicontazione!H116 -> … | Q65: … | R65: =R$45*VLOOKUP($P65,$E$17:$F$22,2,FALSE) -> 0 | S65: =S$45*VLOOKUP($P65,$E$17:$F$22,2,FALSE) -> 0 | T65: =T$45*VLOOKUP($P65,$E$17:$F$22,2,FALSE) -> 0 | U65: =U$45*VLOOKUP($P65,$E$17:$F$22,2,FALSE) -> 0 | V65: =V$45*VLOOKUP($P65,$E$17:$F$22,2,FALSE) -> 0 | W65: =W$45*VLOOKUP($P65,$E$17:$F$22,2,FALSE) -> 0 | X65: =X$45*VLOOKUP($P65,$E$17:$F$22,2,FALSE) -> 0 | Y65: =Y$45*VLOOKUP($P65,$E$17:$F$22,2,FALSE) -> 0 | ... AL65: =AL$45*VLOOKUP($P65,$E$17:$F$22,2,FALSE) -> 0 | AN65: =Rendicontazione!F116*Rendicontazione!I116 -> 0
O66: 5 | P66: =Rendicontazione!H117 -> … | Q66: … | R66: =R$45*VLOOKUP($P66,$E$17:$F$22,2,FALSE) -> 0 | S66: =S$45*VLOOKUP($P66,$E$17:$F$22,2,FALSE) -> 0 | T66: =T$45*VLOOKUP($P66,$E$17:$F$22,2,FALSE) -> 0 | U66: =U$45*VLOOKUP($P66,$E$17:$F$22,2,FALSE) -> 0 | V66: =V$45*VLOOKUP($P66,$E$17:$F$22,2,FALSE) -> 0 | W66: =W$45*VLOOKUP($P66,$E$17:$F$22,2,FALSE) -> 0 | X66: =X$45*VLOOKUP($P66,$E$17:$F$22,2,FALSE) -> 0 | Y66: =Y$45*VLOOKUP($P66,$E$17:$F$22,2,FALSE) -> 0 | ... AL66: =AL$45*VLOOKUP($P66,$E$17:$F$22,2,FALSE) -> 0 | AN66: =Rendicontazione!F117*Rendicontazione!I117 -> 0
O67: 6 | P67: =Rendicontazione!H118 -> … | Q67: … | R67: =R$45*VLOOKUP($P67,$E$17:$F$22,2,FALSE) -> 0 | S67: =S$45*VLOOKUP($P67,$E$17:$F$22,2,FALSE) -> 0 | T67: =T$45*VLOOKUP($P67,$E$17:$F$22,2,FALSE) -> 0 | U67: =U$45*VLOOKUP($P67,$E$17:$F$22,2,FALSE) -> 0 | V67: =V$45*VLOOKUP($P67,$E$17:$F$22,2,FALSE) -> 0 | W67: =W$45*VLOOKUP($P67,$E$17:$F$22,2,FALSE) -> 0 | X67: =X$45*VLOOKUP($P67,$E$17:$F$22,2,FALSE) -> 0 | Y67: =Y$45*VLOOKUP($P67,$E$17:$F$22,2,FALSE) -> 0 | ... AL67: =AL$45*VLOOKUP($P67,$E$17:$F$22,2,FALSE) -> 0 | AN67: =Rendicontazione!F118*Rendicontazione!I118 -> 0
O70: 1 | P70: =Rendicontazione!H121 -> 0 | Q70: … | R70: =R$45*VLOOKUP($P70,$E$17:$F$22,2,FALSE) -> 0 | S70: =S$45*VLOOKUP($P70,$E$17:$F$22,2,FALSE) -> 0 | T70: =T$45*VLOOKUP($P70,$E$17:$F$22,2,FALSE) -> 0 | U70: =U$45*VLOOKUP($P70,$E$17:$F$22,2,FALSE) -> 0 | V70: =V$45*VLOOKUP($P70,$E$17:$F$22,2,FALSE) -> 0 | W70: =W$45*VLOOKUP($P70,$E$17:$F$22,2,FALSE) -> 0 | X70: =X$45*VLOOKUP($P70,$E$17:$F$22,2,FALSE) -> 0 | Y70: =Y$45*VLOOKUP($P70,$E$17:$F$22,2,FALSE) -> 0 | ... AL70: =AL$45*VLOOKUP($P70,$E$17:$F$22,2,FALSE) -> 0 | AN70: =Rendicontazione!F121*Rendicontazione!I121 -> 0
O71: 2 | P71: =Rendicontazione!H122 -> 0 | Q71: … | R71: =R$45*VLOOKUP($P71,$E$17:$F$22,2,FALSE) -> 0 | S71: =S$45*VLOOKUP($P71,$E$17:$F$22,2,FALSE) -> 0 | T71: =T$45*VLOOKUP($P71,$E$17:$F$22,2,FALSE) -> 0 | U71: =U$45*VLOOKUP($P71,$E$17:$F$22,2,FALSE) -> 0 | V71: =V$45*VLOOKUP($P71,$E$17:$F$22,2,FALSE) -> 0 | W71: =W$45*VLOOKUP($P71,$E$17:$F$22,2,FALSE) -> 0 | X71: =X$45*VLOOKUP($P71,$E$17:$F$22,2,FALSE) -> 0 | Y71: =Y$45*VLOOKUP($P71,$E$17:$F$22,2,FALSE) -> 0 | ... AL71: =AL$45*VLOOKUP($P71,$E$17:$F$22,2,FALSE) -> 0 | AN71: =Rendicontazione!F122*Rendicontazione!I122 -> 0
O72: 3 | P72: =Rendicontazione!H123 -> … | Q72: … | R72: =R$45*VLOOKUP($P72,$E$17:$F$22,2,FALSE) -> 0 | S72: =S$45*VLOOKUP($P72,$E$17:$F$22,2,FALSE) -> 0 | T72: =T$45*VLOOKUP($P72,$E$17:$F$22,2,FALSE) -> 0 | U72: =U$45*VLOOKUP($P72,$E$17:$F$22,2,FALSE) -> 0 | V72: =V$45*VLOOKUP($P72,$E$17:$F$22,2,FALSE) -> 0 | W72: =W$45*VLOOKUP($P72,$E$17:$F$22,2,FALSE) -> 0 | X72: =X$45*VLOOKUP($P72,$E$17:$F$22,2,FALSE) -> 0 | Y72: =Y$45*VLOOKUP($P72,$E$17:$F$22,2,FALSE) -> 0 | ... AL72: =AL$45*VLOOKUP($P72,$E$17:$F$22,2,FALSE) -> 0 | AN72: =Rendicontazione!F123*Rendicontazione!I123 -> 0
O73: 4 | P73: =Rendicontazione!H124 -> … | Q73: … | R73: =R$45*VLOOKUP($P73,$E$17:$F$22,2,FALSE) -> 0 | S73: =S$45*VLOOKUP($P73,$E$17:$F$22,2,FALSE) -> 0 | T73: =T$45*VLOOKUP($P73,$E$17:$F$22,2,FALSE) -> 0 | U73: =U$45*VLOOKUP($P73,$E$17:$F$22,2,FALSE) -> 0 | V73: =V$45*VLOOKUP($P73,$E$17:$F$22,2,FALSE) -> 0 | W73: =W$45*VLOOKUP($P73,$E$17:$F$22,2,FALSE) -> 0 | X73: =X$45*VLOOKUP($P73,$E$17:$F$22,2,FALSE) -> 0 | Y73: =Y$45*VLOOKUP($P73,$E$17:$F$22,2,FALSE) -> 0 | ... AL73: =AL$45*VLOOKUP($P73,$E$17:$F$22,2,FALSE) -> 0 | AN73: =Rendicontazione!F124*Rendicontazione!I124 -> 0
O74: 5 | P74: =Rendicontazione!H125 -> … | Q74: … | R74: =R$45*VLOOKUP($P74,$E$17:$F$22,2,FALSE) -> 0 | S74: =S$45*VLOOKUP($P74,$E$17:$F$22,2,FALSE) -> 0 | T74: =T$45*VLOOKUP($P74,$E$17:$F$22,2,FALSE) -> 0 | U74: =U$45*VLOOKUP($P74,$E$17:$F$22,2,FALSE) -> 0 | V74: =V$45*VLOOKUP($P74,$E$17:$F$22,2,FALSE) -> 0 | W74: =W$45*VLOOKUP($P74,$E$17:$F$22,2,FALSE) -> 0 | X74: =X$45*VLOOKUP($P74,$E$17:$F$22,2,FALSE) -> 0 | Y74: =Y$45*VLOOKUP($P74,$E$17:$F$22,2,FALSE) -> 0 | ... AL74: =AL$45*VLOOKUP($P74,$E$17:$F$22,2,FALSE) -> 0 | AN74: =Rendicontazione!F125*Rendicontazione!I125 -> 0
P77: Altri comb
Q78: … | R78: 0 | S78: 0.05 | T78: =S78+$S$1 -> 0.1 | U78: =T78+$S$1 -> 0.15 | V78: =U78+$S$1 -> 0.2 | W78: =V78+$S$1 -> 0.25 | X78: =W78+$S$1 -> 0.3 | Y78: =X78+$S$1 -> 0.35 | Z78: =Y78+$S$1 -> 0.4 | AA78: =Z78+$S$1 -> 0.45 | ... AL78: =AK78+$S$1 -> 1
O79: 1 | P79: =Rendicontazione!H134 -> … | Q79: … | R79: =R$78*VLOOKUP($P79,$E$17:$F$22,2,FALSE) -> 0 | S79: =S$78*VLOOKUP($P79,$E$17:$F$22,2,FALSE) -> 0 | T79: =T$78*VLOOKUP($P79,$E$17:$F$22,2,FALSE) -> 0 | U79: =U$78*VLOOKUP($P79,$E$17:$F$22,2,FALSE) -> 0 | V79: =V$78*VLOOKUP($P79,$E$17:$F$22,2,FALSE) -> 0 | W79: =W$78*VLOOKUP($P79,$E$17:$F$22,2,FALSE) -> 0 | X79: =X$78*VLOOKUP($P79,$E$17:$F$22,2,FALSE) -> 0 | Y79: =Y$78*VLOOKUP($P79,$E$17:$F$22,2,FALSE) -> 0 | ... AL79: =AL$78*VLOOKUP($P79,$E$17:$F$22,2,FALSE) -> 0 | AN79: =Rendicontazione!F134*Rendicontazione!I134 -> 0
O80: 2 | P80: =Rendicontazione!H135 -> 0 | Q80: … | R80: =R$78*VLOOKUP($P80,$E$17:$F$22,2,FALSE) -> 0 | S80: =S$78*VLOOKUP($P80,$E$17:$F$22,2,FALSE) -> 0 | T80: =T$78*VLOOKUP($P80,$E$17:$F$22,2,FALSE) -> 0 | U80: =U$78*VLOOKUP($P80,$E$17:$F$22,2,FALSE) -> 0 | V80: =V$78*VLOOKUP($P80,$E$17:$F$22,2,FALSE) -> 0 | W80: =W$78*VLOOKUP($P80,$E$17:$F$22,2,FALSE) -> 0 | X80: =X$78*VLOOKUP($P80,$E$17:$F$22,2,FALSE) -> 0 | Y80: =Y$78*VLOOKUP($P80,$E$17:$F$22,2,FALSE) -> 0 | ... AL80: =AL$78*VLOOKUP($P80,$E$17:$F$22,2,FALSE) -> 0 | AN80: =Rendicontazione!F135*Rendicontazione!I135 -> 0
O81: 3 | P81: =Rendicontazione!H136 -> … | Q81: … | R81: =R$78*VLOOKUP($P81,$E$17:$F$22,2,FALSE) -> 0 | S81: =S$78*VLOOKUP($P81,$E$17:$F$22,2,FALSE) -> 0 | T81: =T$78*VLOOKUP($P81,$E$17:$F$22,2,FALSE) -> 0 | U81: =U$78*VLOOKUP($P81,$E$17:$F$22,2,FALSE) -> 0 | V81: =V$78*VLOOKUP($P81,$E$17:$F$22,2,FALSE) -> 0 | W81: =W$78*VLOOKUP($P81,$E$17:$F$22,2,FALSE) -> 0 | X81: =X$78*VLOOKUP($P81,$E$17:$F$22,2,FALSE) -> 0 | Y81: =Y$78*VLOOKUP($P81,$E$17:$F$22,2,FALSE) -> 0 | ... AL81: =AL$78*VLOOKUP($P81,$E$17:$F$22,2,FALSE) -> 0 | AN81: =Rendicontazione!F136*Rendicontazione!I136 -> 0
O82: 4 | P82: =Rendicontazione!H137 -> … | Q82: … | R82: =R$78*VLOOKUP($P82,$E$17:$F$22,2,FALSE) -> 0 | S82: =S$78*VLOOKUP($P82,$E$17:$F$22,2,FALSE) -> 0 | T82: =T$78*VLOOKUP($P82,$E$17:$F$22,2,FALSE) -> 0 | U82: =U$78*VLOOKUP($P82,$E$17:$F$22,2,FALSE) -> 0 | V82: =V$78*VLOOKUP($P82,$E$17:$F$22,2,FALSE) -> 0 | W82: =W$78*VLOOKUP($P82,$E$17:$F$22,2,FALSE) -> 0 | X82: =X$78*VLOOKUP($P82,$E$17:$F$22,2,FALSE) -> 0 | Y82: =Y$78*VLOOKUP($P82,$E$17:$F$22,2,FALSE) -> 0 | ... AL82: =AL$78*VLOOKUP($P82,$E$17:$F$22,2,FALSE) -> 0 | AN82: =Rendicontazione!F137*Rendicontazione!I137 -> 0
O83: 5 | P83: =Rendicontazione!H138 -> 0 | Q83: … | R83: =R$78*VLOOKUP($P83,$E$17:$F$22,2,FALSE) -> 0 | S83: =S$78*VLOOKUP($P83,$E$17:$F$22,2,FALSE) -> 0 | T83: =T$78*VLOOKUP($P83,$E$17:$F$22,2,FALSE) -> 0 | U83: =U$78*VLOOKUP($P83,$E$17:$F$22,2,FALSE) -> 0 | V83: =V$78*VLOOKUP($P83,$E$17:$F$22,2,FALSE) -> 0 | W83: =W$78*VLOOKUP($P83,$E$17:$F$22,2,FALSE) -> 0 | X83: =X$78*VLOOKUP($P83,$E$17:$F$22,2,FALSE) -> 0 | Y83: =Y$78*VLOOKUP($P83,$E$17:$F$22,2,FALSE) -> 0 | ... AL83: =AL$78*VLOOKUP($P83,$E$17:$F$22,2,FALSE) -> 0 | AN83: =Rendicontazione!F138*Rendicontazione!I138 -> 0
O84: 6 | P84: =Rendicontazione!H139 -> 0 | Q84: … | R84: =R$78*VLOOKUP($P84,$E$17:$F$22,2,FALSE) -> 0 | S84: =S$78*VLOOKUP($P84,$E$17:$F$22,2,FALSE) -> 0 | T84: =T$78*VLOOKUP($P84,$E$17:$F$22,2,FALSE) -> 0 | U84: =U$78*VLOOKUP($P84,$E$17:$F$22,2,FALSE) -> 0 | V84: =V$78*VLOOKUP($P84,$E$17:$F$22,2,FALSE) -> 0 | W84: =W$78*VLOOKUP($P84,$E$17:$F$22,2,FALSE) -> 0 | X84: =X$78*VLOOKUP($P84,$E$17:$F$22,2,FALSE) -> 0 | Y84: =Y$78*VLOOKUP($P84,$E$17:$F$22,2,FALSE) -> 0 | ... AL84: =AL$78*VLOOKUP($P84,$E$17:$F$22,2,FALSE) -> 0 | AN84: =Rendicontazione!F139*Rendicontazione!I139 -> 0
O85: 7 | P85: =Rendicontazione!H140 -> … | Q85: … | R85: =R$78*VLOOKUP($P85,$E$17:$F$22,2,FALSE) -> 0 | S85: =S$78*VLOOKUP($P85,$E$17:$F$22,2,FALSE) -> 0 | T85: =T$78*VLOOKUP($P85,$E$17:$F$22,2,FALSE) -> 0 | U85: =U$78*VLOOKUP($P85,$E$17:$F$22,2,FALSE) -> 0 | V85: =V$78*VLOOKUP($P85,$E$17:$F$22,2,FALSE) -> 0 | W85: =W$78*VLOOKUP($P85,$E$17:$F$22,2,FALSE) -> 0 | X85: =X$78*VLOOKUP($P85,$E$17:$F$22,2,FALSE) -> 0 | Y85: =Y$78*VLOOKUP($P85,$E$17:$F$22,2,FALSE) -> 0 | ... AL85: =AL$78*VLOOKUP($P85,$E$17:$F$22,2,FALSE) -> 0 | AN85: =Rendicontazione!F140*Rendicontazione!I140 -> 0
O86: 8 | P86: =Rendicontazione!H141 -> … | Q86: … | R86: =R$78*VLOOKUP($P86,$E$17:$F$22,2,FALSE) -> 0 | S86: =S$78*VLOOKUP($P86,$E$17:$F$22,2,FALSE) -> 0 | T86: =T$78*VLOOKUP($P86,$E$17:$F$22,2,FALSE) -> 0 | U86: =U$78*VLOOKUP($P86,$E$17:$F$22,2,FALSE) -> 0 | V86: =V$78*VLOOKUP($P86,$E$17:$F$22,2,FALSE) -> 0 | W86: =W$78*VLOOKUP($P86,$E$17:$F$22,2,FALSE) -> 0 | X86: =X$78*VLOOKUP($P86,$E$17:$F$22,2,FALSE) -> 0 | Y86: =Y$78*VLOOKUP($P86,$E$17:$F$22,2,FALSE) -> 0 | ... AL86: =AL$78*VLOOKUP($P86,$E$17:$F$22,2,FALSE) -> 0 | AN86: =Rendicontazione!F141*Rendicontazione!I141 -> 0
O87: 9 | P87: =Rendicontazione!H142 -> … | Q87: … | R87: =R$78*VLOOKUP($P87,$E$17:$F$22,2,FALSE) -> 0 | S87: =S$78*VLOOKUP($P87,$E$17:$F$22,2,FALSE) -> 0 | T87: =T$78*VLOOKUP($P87,$E$17:$F$22,2,FALSE) -> 0 | U87: =U$78*VLOOKUP($P87,$E$17:$F$22,2,FALSE) -> 0 | V87: =V$78*VLOOKUP($P87,$E$17:$F$22,2,FALSE) -> 0 | W87: =W$78*VLOOKUP($P87,$E$17:$F$22,2,FALSE) -> 0 | X87: =X$78*VLOOKUP($P87,$E$17:$F$22,2,FALSE) -> 0 | Y87: =Y$78*VLOOKUP($P87,$E$17:$F$22,2,FALSE) -> 0 | ... AL87: =AL$78*VLOOKUP($P87,$E$17:$F$22,2,FALSE) -> 0 | AN87: =Rendicontazione!F142*Rendicontazione!I142 -> 0
O88: 10 | P88: =Rendicontazione!H143 -> … | Q88: … | R88: =R$78*VLOOKUP($P88,$E$17:$F$22,2,FALSE) -> 0 | S88: =S$78*VLOOKUP($P88,$E$17:$F$22,2,FALSE) -> 0 | T88: =T$78*VLOOKUP($P88,$E$17:$F$22,2,FALSE) -> 0 | U88: =U$78*VLOOKUP($P88,$E$17:$F$22,2,FALSE) -> 0 | V88: =V$78*VLOOKUP($P88,$E$17:$F$22,2,FALSE) -> 0 | W88: =W$78*VLOOKUP($P88,$E$17:$F$22,2,FALSE) -> 0 | X88: =X$78*VLOOKUP($P88,$E$17:$F$22,2,FALSE) -> 0 | Y88: =Y$78*VLOOKUP($P88,$E$17:$F$22,2,FALSE) -> 0 | ... AL88: =AL$78*VLOOKUP($P88,$E$17:$F$22,2,FALSE) -> 0 | AN88: =Rendicontazione!F143*Rendicontazione!I143 -> 0
O89: 11 | P89: =Rendicontazione!H144 -> … | Q89: … | R89: =R$78*VLOOKUP($P89,$E$17:$F$22,2,FALSE) -> 0 | S89: =S$78*VLOOKUP($P89,$E$17:$F$22,2,FALSE) -> 0 | T89: =T$78*VLOOKUP($P89,$E$17:$F$22,2,FALSE) -> 0 | U89: =U$78*VLOOKUP($P89,$E$17:$F$22,2,FALSE) -> 0 | V89: =V$78*VLOOKUP($P89,$E$17:$F$22,2,FALSE) -> 0 | W89: =W$78*VLOOKUP($P89,$E$17:$F$22,2,FALSE) -> 0 | X89: =X$78*VLOOKUP($P89,$E$17:$F$22,2,FALSE) -> 0 | Y89: =Y$78*VLOOKUP($P89,$E$17:$F$22,2,FALSE) -> 0 | ... AL89: =AL$78*VLOOKUP($P89,$E$17:$F$22,2,FALSE) -> 0 | AN89: =Rendicontazione!F144*Rendicontazione!I144 -> 0
O90: 12 | P90: =Rendicontazione!H145 -> … | Q90: … | R90: =R$78*VLOOKUP($P90,$E$17:$F$22,2,FALSE) -> 0 | S90: =S$78*VLOOKUP($P90,$E$17:$F$22,2,FALSE) -> 0 | T90: =T$78*VLOOKUP($P90,$E$17:$F$22,2,FALSE) -> 0 | U90: =U$78*VLOOKUP($P90,$E$17:$F$22,2,FALSE) -> 0 | V90: =V$78*VLOOKUP($P90,$E$17:$F$22,2,FALSE) -> 0 | W90: =W$78*VLOOKUP($P90,$E$17:$F$22,2,FALSE) -> 0 | X90: =X$78*VLOOKUP($P90,$E$17:$F$22,2,FALSE) -> 0 | Y90: =Y$78*VLOOKUP($P90,$E$17:$F$22,2,FALSE) -> 0 | ... AL90: =AL$78*VLOOKUP($P90,$E$17:$F$22,2,FALSE) -> 0 | AN90: =Rendicontazione!F145*Rendicontazione!I145 -> 0
... O107: 5 | P107: =Rendicontazione!H162 -> … | Q107: … | R107: =R$78*VLOOKUP($P107,$E$17:$F$22,2,FALSE) -> 0 | S107: =S$78*VLOOKUP($P107,$E$17:$F$22,2,FALSE) -> 0 | T107: =T$78*VLOOKUP($P107,$E$17:$F$22,2,FALSE) -> 0 | U107: =U$78*VLOOKUP($P107,$E$17:$F$22,2,FALSE) -> 0 | V107: =V$78*VLOOKUP($P107,$E$17:$F$22,2,FALSE) -> 0 | W107: =W$78*VLOOKUP($P107,$E$17:$F$22,2,FALSE) -> 0 | X107: =X$78*VLOOKUP($P107,$E$17:$F$22,2,FALSE) -> 0 | Y107: =Y$78*VLOOKUP($P107,$E$17:$F$22,2,FALSE) -> 0 | ... AL107: =AL$78*VLOOKUP($P107,$E$17:$F$22,2,FALSE) -> 0 | AN107: =Rendicontazione!F162*Rendicontazione!I162 -> 0
